BEGIN:VCALENDAR
VERSION:2.0
PRODID:-//ChamberMaster//Event Calendar 2.0//EN
METHOD:PUBLISH
X-PUBLISHED-TTL:P3D
REFRESH-INTERVAL:P3D
CALSCALE:GREGORIAN
BEGIN:VEVENT
DTSTART:20180418T170000Z
DTEND:20180418T180000Z
X-MICROSOFT-CDO-ALLDAYEVENT:FALSE
SUMMARY:10 Year Anniversary Ribbon Cutting for California Pest Management
DESCRIPTION:Join us as we celebrate the 10 Year Anniversary at California Pest Control
X-ALT-DESC;FMTTYPE=text/html:Join us as we celebrate the 10 Year Anniversary at California Pest Control
LOCATION:California Pest Control 908 Palomares Ave. La Verne
UID:e.1883.639
SEQUENCE:3
DTSTAMP:20260422T181027Z
URL:https://business.lavernechamber.org/events/details/10-year-anniversary-ribbon-cutting-for-california-pest-management-639
END:VEVENT

END:VCALENDAR
