BEGIN:VCALENDAR
VERSION:2.0
PRODID:-//ChamberMaster//Event Calendar 2.0//EN
METHOD:PUBLISH
X-PUBLISHED-TTL:P3D
REFRESH-INTERVAL:P3D
CALSCALE:GREGORIAN
BEGIN:VEVENT
DTSTART:20170510T003000Z
DTEND:20170510T030000Z
X-MICROSOFT-CDO-ALLDAYEVENT:FALSE
SUMMARY:15th Annual Teacher of The Year Awards Banquet
DESCRIPTION:This dinner honors one teacher picked by each school as their" Teacher of the Year".\n\nThis years honorees are:\n\n\n\nBonita High School   Adam Archibald\n\nOak Mesa Elementary School  Linda Hand\n\nLa Verne Heights Elementary School   Megan Flores\n\nGrace Miller Elementary School   April Maidens\n\nRamona Middle School   Brad Smith\n\nJ. Marion Roynon Elementary School  Tim Marshall\n\nJoan Macy School   Eric Belmontez\n\nHoly Name of Mary School   Jackie Gasparo Stoops\n\nCalvary Baptist School   Katy Diaz\n\nLutheran High School    Rev. Thomas King III\n\nDamien High School   Raymond Nolte\n\nAfflerbaugh - Paige Camp School   David Renfroe
X-ALT-DESC;FMTTYPE=text/html:<span style="font-size:12px\;"><span style="font-family:tahoma\;"><span style="color: rgb(64\, 63\, 66)\;">This dinner honors one teacher picked by each school as their&rdquo\; Teacher of the Year&rdquo\;.<br />\nThis years honorees are:</span><br />\n<br />\nBonita High School &nbsp\; Adam Archibald<br />\nOak Mesa Elementary School &nbsp\;Linda Hand<br />\nLa Verne Heights Elementary School &nbsp\; Megan Flores<br />\nGrace Miller Elementary School &nbsp\; April Maidens<br />\nRamona Middle School &nbsp\; Brad Smith<br />\nJ. Marion Roynon Elementary School &nbsp\;Tim Marshall<br />\nJoan Macy School &nbsp\; Eric Belmontez<br />\nHoly Name of Mary School &nbsp\; Jackie Gasparo Stoops<br />\nCalvary Baptist School &nbsp\; Katy Diaz<br />\nLutheran High School &nbsp\; &nbsp\;Rev. Thomas King III<br />\nDamien High School &nbsp\; Raymond Nolte<br />\nAfflerbaugh - Paige Camp School &nbsp\; David Renfroe</span></span><br />\n&nbsp\;
LOCATION:The Meeting Room at Hillcrest 2075 Mountain View Drive
UID:e.1883.114
SEQUENCE:3
DTSTAMP:20260423T111421Z
URL:https://business.lavernechamber.org/events/details/15th-annual-teacher-of-the-year-awards-banquet-114
END:VEVENT

END:VCALENDAR
