BEGIN:VCALENDAR
VERSION:2.0
PRODID:-//ChamberMaster//Event Calendar 2.0//EN
METHOD:PUBLISH
X-PUBLISHED-TTL:P3D
REFRESH-INTERVAL:P3D
CALSCALE:GREGORIAN
BEGIN:VEVENT
DTSTART:20190523T003000Z
DTEND:20190523T030000Z
X-MICROSOFT-CDO-ALLDAYEVENT:FALSE
SUMMARY:17th Annual Teacher of The Year Awards Banquet
DESCRIPTION:ONLINE RESERVATIONS ARE NOW CLOSED\, PLEASE CALL THE CHAMBER OFFICE\n\n909-593-5265\n\n\n\nThis dinner honors one teacher picked by each school as their Teacher of the Year\n\nOur 2019 Honorees\n\n \n\nAfflerbaugh-Paige                            Catherine Fair\n\nBonita High School                           Gabe Sanchez\n\nCalvary Baptist                                 Jesi Montoya \n\nDamien High School                         Eric McElrea\n\nGrace Miller Elementary                 Amy Benson\n\nHaynes Family of Programs             Tiffany Regan\n\nHoly Name of Mary                          Janelle Haggett\n\nJ. Marion Roynon                             Valerie Lopez\n\nJoan Macy                                         Donna Miranda\n\nLa Verne Heights Elementary         Wendy Carpenter    \n\nLutheran High School                      Katie Pichotta                       \n\nOak Mesa Elementary                      Diana Nairouz                                  \n\nRamona Middle School                    Deborah Brownlee
X-ALT-DESC;FMTTYPE=text/html:<div style="text-align: center\;"><strong><span style="font-size:14px\;"><span style="font-family:tahoma\;"><span style="color: rgb(64\, 63\, 66)\;">ONLINE RESERVATIONS ARE NOW CLOSED\, PLEASE CALL THE CHAMBER OFFICE<br />\n909-593-5265<br />\n<br />\nThis dinner honors one teacher picked by each school as their&nbsp\;Teacher of the Year</span></span></span></strong></div>\n\n<div style="text-align: center\;"><strong><span style="font-size:14px\;"><span style="font-family:tahoma\;"><span style="color: rgb(64\, 63\, 66)\;">Our 2019&nbsp\;Honorees</span></span></span></strong><br />\n&nbsp\;</div>\n\n<div style="margin-left: 240px\;"><strong><span style="font-size:14px\;"><span style="font-family:tahoma\;">Afflerbaugh-Paige&nbsp\;&nbsp\;&nbsp\;&nbsp\;&nbsp\;&nbsp\;&nbsp\;&nbsp\;&nbsp\;&nbsp\;&nbsp\;&nbsp\;&nbsp\;&nbsp\;&nbsp\; &nbsp\;&nbsp\;&nbsp\;&nbsp\;&nbsp\;&nbsp\;&nbsp\;&nbsp\;&nbsp\;&nbsp\;&nbsp\; Catherine Fair</span></span></strong><br />\n<span style="font-size:14px\;"><span style="font-family:tahoma\;"><strong>Bonita High School</strong> &nbsp\;&nbsp\;&nbsp\;&nbsp\;&nbsp\;&nbsp\;&nbsp\;&nbsp\;&nbsp\;&nbsp\;&nbsp\;&nbsp\;&nbsp\; &nbsp\;&nbsp\;&nbsp\;&nbsp\;&nbsp\;&nbsp\;&nbsp\;&nbsp\;&nbsp\;&nbsp\;&nbsp\; <strong>Gabe Sanchez</strong><br />\n<strong>Calvary Baptist&nbsp\;&nbsp\;&nbsp\;&nbsp\;&nbsp\;&nbsp\;&nbsp\;&nbsp\;&nbsp\;&nbsp\;&nbsp\;&nbsp\;&nbsp\;&nbsp\;&nbsp\;&nbsp\;&nbsp\;&nbsp\;&nbsp\;&nbsp\; &nbsp\;&nbsp\;&nbsp\;&nbsp\;&nbsp\;&nbsp\;&nbsp\;&nbsp\;&nbsp\;&nbsp\;&nbsp\; Jesi Montoya </strong><br />\n<strong>Damien High School&nbsp\;&nbsp\;&nbsp\;&nbsp\;&nbsp\;&nbsp\;&nbsp\;&nbsp\;&nbsp\;&nbsp\;&nbsp\;&nbsp\; &nbsp\;&nbsp\;&nbsp\;&nbsp\;&nbsp\;&nbsp\;&nbsp\;&nbsp\;&nbsp\;&nbsp\;&nbsp\; Eric McElrea</strong><br />\n<strong>Grace Miller Elementary</strong> &nbsp\;&nbsp\;&nbsp\; &nbsp\;&nbsp\;&nbsp\;&nbsp\;&nbsp\;&nbsp\;&nbsp\;&nbsp\;&nbsp\;&nbsp\;&nbsp\; <strong>Amy Benson</strong><br />\n<strong>Haynes Family of Programs &nbsp\;&nbsp\;&nbsp\;&nbsp\;&nbsp\;&nbsp\;&nbsp\;&nbsp\;&nbsp\;&nbsp\;&nbsp\; Tiffany Regan</strong><br />\n<strong>Holy Name of Mary&nbsp\;&nbsp\;&nbsp\;&nbsp\;&nbsp\;&nbsp\;&nbsp\;&nbsp\;&nbsp\;&nbsp\;&nbsp\;&nbsp\;&nbsp\; &nbsp\;&nbsp\;&nbsp\;&nbsp\;&nbsp\;&nbsp\;&nbsp\;&nbsp\;&nbsp\;&nbsp\;&nbsp\; Janelle Haggett</strong><br />\n<strong>J. Marion Roynon&nbsp\;&nbsp\;&nbsp\;&nbsp\;&nbsp\;&nbsp\;&nbsp\;&nbsp\;&nbsp\;&nbsp\;&nbsp\;&nbsp\;&nbsp\;&nbsp\;&nbsp\;&nbsp\;&nbsp\;&nbsp\;&nbsp\;&nbsp\;&nbsp\;&nbsp\;&nbsp\;&nbsp\;&nbsp\;&nbsp\;&nbsp\;&nbsp\; Valerie Lopez</strong><br />\n<strong>Joan Macy&nbsp\;&nbsp\;&nbsp\;&nbsp\;&nbsp\;&nbsp\;&nbsp\;&nbsp\;&nbsp\;&nbsp\;&nbsp\;&nbsp\;&nbsp\;&nbsp\;&nbsp\;&nbsp\;&nbsp\;&nbsp\;&nbsp\;&nbsp\;&nbsp\;&nbsp\;&nbsp\;&nbsp\;&nbsp\;&nbsp\;&nbsp\;&nbsp\; &nbsp\;&nbsp\;&nbsp\;&nbsp\;&nbsp\;&nbsp\;&nbsp\;&nbsp\;&nbsp\;&nbsp\;&nbsp\; Donna Miranda</strong><br />\n<strong>La Verne Heights Elementary</strong>&nbsp\;&nbsp\;&nbsp\;&nbsp\;&nbsp\;&nbsp\;&nbsp\;&nbsp\; <strong>Wendy Carpenter</strong>&nbsp\;&nbsp\;&nbsp\;&nbsp\;<br />\n<strong>Lutheran High School&nbsp\;&nbsp\;&nbsp\;&nbsp\;&nbsp\;&nbsp\;&nbsp\;&nbsp\;&nbsp\;&nbsp\;&nbsp\;&nbsp\;&nbsp\;&nbsp\;&nbsp\;&nbsp\;&nbsp\;&nbsp\;&nbsp\;&nbsp\;&nbsp\; Katie Pichotta</strong>&nbsp\;&nbsp\;&nbsp\;&nbsp\;&nbsp\;&nbsp\;&nbsp\;&nbsp\;&nbsp\;&nbsp\;&nbsp\; &nbsp\;&nbsp\;&nbsp\;&nbsp\;&nbsp\;&nbsp\;&nbsp\;&nbsp\;&nbsp\;&nbsp\;&nbsp\;<br />\n<strong>Oak Mesa Elementary&nbsp\;&nbsp\;&nbsp\;&nbsp\;&nbsp\;&nbsp\;&nbsp\;&nbsp\;&nbsp\;&nbsp\;&nbsp\;&nbsp\;&nbsp\;&nbsp\;&nbsp\;&nbsp\;&nbsp\;&nbsp\;&nbsp\;&nbsp\;&nbsp\; Diana Nairouz&nbsp\;&nbsp\;&nbsp\;&nbsp\;&nbsp\;&nbsp\;&nbsp\;&nbsp\;&nbsp\;&nbsp\; </strong>&nbsp\;&nbsp\;&nbsp\;&nbsp\;&nbsp\;&nbsp\;&nbsp\;&nbsp\;&nbsp\;&nbsp\;&nbsp\;&nbsp\;&nbsp\;&nbsp\;&nbsp\;&nbsp\;&nbsp\;&nbsp\;&nbsp\;&nbsp\;&nbsp\;&nbsp\;&nbsp\;<br />\n<strong>Ramona Middle School</strong>&nbsp\;&nbsp\;&nbsp\;&nbsp\;&nbsp\;&nbsp\;&nbsp\;&nbsp\;&nbsp\;&nbsp\;&nbsp\;&nbsp\;&nbsp\;&nbsp\;&nbsp\;&nbsp\;&nbsp\;&nbsp\;&nbsp\; <strong>Deborah Brownlee</strong></span></span></div>\n\n<div style="text-align: center\;">&nbsp\;<br />\n&nbsp\;</div>\n\n<div style="margin-left: 200px\;"><strong>&nbsp\;&nbsp\;</strong></div>\n
LOCATION:The Meeting Room at Hillcrest
UID:e.1883.1324
SEQUENCE:3
DTSTAMP:20260421T235402Z
URL:https://business.lavernechamber.org/events/details/17th-annual-teacher-of-the-year-awards-banquet-1324
END:VEVENT

END:VCALENDAR
