BEGIN:VCALENDAR
VERSION:2.0
PRODID:-//ChamberMaster//Event Calendar 2.0//EN
METHOD:PUBLISH
X-PUBLISHED-TTL:P3D
REFRESH-INTERVAL:P3D
CALSCALE:GREGORIAN
BEGIN:VEVENT
DTSTART:20171209T170000Z
DTEND:20171209T210000Z
X-MICROSOFT-CDO-ALLDAYEVENT:FALSE
SUMMARY:18th Annual Winter Wonderland in La Verne
DESCRIPTION:Children can enjoy two snow runs\, two snow play lands (with real snow!)\, arts and crafts\, a cup of hot cocoa and a doughnut at "Mrs. Claus' Cozy Kitchen"\, and of course visit Santa at the gazebo! Parents be sure to bring your cameras for this wonderful photo opportunity. Kids should dress for snow: mittens\, gloves\, boots and jackets. Sliding saucers will be provided. There will also be food and refreshments for purchase and craft vendors for early Christmas shopping.
X-ALT-DESC;FMTTYPE=text/html:<span style="color: rgb(69\, 44\, 3)\; font-family: Arimo\, Arial\, &quot\;Arial Unicode MS&quot\;\, Helvetica\, sans-serif\; font-size: 11px\; background-color: rgb(254\, 242\, 221)\;">Children can enjoy two snow runs\, two snow play lands&nbsp\;(with real snow!)\, arts and crafts\, a cup of hot cocoa and&nbsp\;a doughnut at &ldquo\;Mrs. Claus&rsquo\; Cozy Kitchen&rdquo\;\, and of course&nbsp\;visit Santa at the gazebo! Parents be sure to bring your&nbsp\;cameras for this wonderful photo opportunity. Kids&nbsp\;should dress for snow: mittens\, gloves\, boots and&nbsp\;jackets. Sliding saucers will be provided. There will&nbsp\;also be food and refreshments for purchase and&nbsp\;craft vendors for early Christmas shopping.&nbsp\;</span>
LOCATION:Heritage Park\, 5001 Via De Mansion\, La Verne
UID:e.1883.425
SEQUENCE:3
DTSTAMP:20260423T015204Z
URL:https://business.lavernechamber.org/events/details/18th-annual-winter-wonderland-in-la-verne-425
END:VEVENT

END:VCALENDAR
