BEGIN:VCALENDAR
VERSION:2.0
PRODID:-//ChamberMaster//Event Calendar 2.0//EN
METHOD:PUBLISH
X-PUBLISHED-TTL:P3D
REFRESH-INTERVAL:P3D
CALSCALE:GREGORIAN
BEGIN:VEVENT
DTSTART:20181201T170000Z
DTEND:20181202T040000Z
X-MICROSOFT-CDO-ALLDAYEVENT:FALSE
SUMMARY:20% OFF HOLIDAY SALE at A PLACE IN TIME!
DESCRIPTION:20% off all regular priced items!
X-ALT-DESC;FMTTYPE=text/html:20% off all regular priced items!
LOCATION:A Place In Time 2334 D Street
UID:e.1883.1252
SEQUENCE:3
DTSTAMP:20260422T060139Z
URL:https://business.lavernechamber.org/events/details/20-off-holiday-sale-at-a-place-in-time-1252
END:VEVENT

END:VCALENDAR
