BEGIN:VCALENDAR
VERSION:2.0
PRODID:-//ChamberMaster//Event Calendar 2.0//EN
METHOD:PUBLISH
X-PUBLISHED-TTL:P3D
REFRESH-INTERVAL:P3D
CALSCALE:GREGORIAN
BEGIN:VEVENT
DTSTART:20170630T003000Z
DTEND:20170630T030000Z
X-MICROSOFT-CDO-ALLDAYEVENT:FALSE
SUMMARY:2017 Installation & Awards Dinner
DESCRIPTION:The La Verne Chamber of Commerce Cordially invites you to attend the\n\n2017 Installation & Awards Dinner\n\n \n\n2017 Award Winners\n\nBusiness of the Year                          Arun Tolia                   Investors Team Realty\n\nNew Business of the Year                 Janet Shropshire       Conundrum Salon & Spa\n\nChamber Member of the Year           Wayne Hurley            Voya Financial Advisors\n\nBig Business of the Year                   Teri Muse                    Waste Management\n\nAmbassador of the Year                    Sheryl Fox                  Sheryl Fox Realty\n\nVolunteer of the Year                       Steven Takamatsu     Steven Takamatsu \, DDS\n\n"What would we do without you"     Michael Mergil            Modern Mayhem Sweets\n\nNon-Profit of the Year                       Scott Snider               Hillcrest Homes\n\nSilent Partner of the Year                 Kaitlin Adams            Massage Envy\n\nChamber ?Spirit? Award                   Annette Ousterhout  Jans Towing\n\nDistinguished Service Award           Hal Fredericksen         City of La Verne\n\n  \n\n2017 -2018 Board of Directors\n\nArun Tolia                   President                    InvestorsTeam Realty\n\nWayne Hurley            President-Elect          Voya Financial Advisors\n\nTeri Muse                    Secretary                    Waste Management\n\nTina Henton               Treasurer                    Vicente\, Lloyd & Stutzman\, CPAs\n\nLuis Cetina                 Past President           Metropolitian Water District\n\nJoanna Alvarez          Board Member            A Family Style Home\n\nBrian Bowcock           Board Member            Three Valley's Municipal Water District\n\nJodi Brown                 Board Member            Outdoor Elegance\n\nLisa Corsini                 Board Member            GoodCo Media Group\n\nLaura Gonzales          Board Member            Mary Kay Cosmetics\n\nJulie Griffith               Board Member            David & Margaret\n\nHoward Hawkins       Board Member            Law Offices of Howard Hawkins\n\nMichael Mergil            Board Member            Modern Mayhem Sweets\n\nEd Murfett                  Board Member            Print Connection\n\nScott Snider               Board Member            Hillcrest\n\nMorgan Sternquist     Board Member            Pomona Valley Habitat for Humanity\n\nKurt Weinmeister      Board Member            San Dimas Community Hospital\n  \n\n\n\nMarketing and sponsorship opportunities available contact Nikki Hoar  for details 626-625-6842
X-ALT-DESC;FMTTYPE=text/html:<div style="text-align: center\;"><span style="color:#333333\;"><span style="font-family:monotype corsiva\;"><span style="font-size:13.5pt\;">The La Verne Chamber of Commerce&nbsp\;Cordially invites you to attend the</span></span></span><br />\n<strong><span style="color:#333333\;"><span style="font-family:monotype corsiva\;"><span style="font-size:12.0pt\;">2017 Installation &amp\; Awards Dinner</span></span></span></strong><br />\n&nbsp\;</div>\n\n<div><strong><span style="color:#333333\;"><span style="font-family:monotype corsiva\;"><span style="font-size:13.5pt\;">2017 Award Winners</span></span></span></strong><br />\n<span style="font-size:11px\;"><span style="font-family:verdana\;"><strong><span style="color:#333333\;">Business of the Year&nbsp\;&nbsp\;&nbsp\;&nbsp\;&nbsp\;&nbsp\;&nbsp\;&nbsp\;&nbsp\;&nbsp\;&nbsp\;&nbsp\;&nbsp\;&nbsp\;&nbsp\;&nbsp\;&nbsp\;&nbsp\;&nbsp\;&nbsp\;&nbsp\;&nbsp\;&nbsp\;&nbsp\;&nbsp\; Arun&nbsp\;Tolia&nbsp\;&nbsp\;&nbsp\;&nbsp\;&nbsp\;&nbsp\;&nbsp\;&nbsp\;&nbsp\;&nbsp\;&nbsp\;&nbsp\;&nbsp\;&nbsp\;&nbsp\;&nbsp\;&nbsp\;&nbsp\; Investors Team Realty<br />\nNew Business of the Year&nbsp\;&nbsp\;&nbsp\;&nbsp\;&nbsp\;&nbsp\;&nbsp\;&nbsp\;&nbsp\;&nbsp\;&nbsp\;&nbsp\;&nbsp\;&nbsp\;&nbsp\;&nbsp\; </span></strong><strong><span style="color:#333333\;">Janet&nbsp\;Shropshire&nbsp\;&nbsp\;&nbsp\;&nbsp\;&nbsp\;&nbsp\; Conundrum Salon &amp\; Spa</span></strong><br />\n<strong><span style="color:#333333\;">Chamber Member of the Year&nbsp\;&nbsp\;&nbsp\;&nbsp\;&nbsp\;&nbsp\;&nbsp\;&nbsp\;&nbsp\;&nbsp\; Wayne Hurley &nbsp\; &nbsp\; &nbsp\; &nbsp\; &nbsp\; &nbsp\;Voya Financial Advisors<br />\nBig Business of the Year&nbsp\;&nbsp\;&nbsp\;&nbsp\;&nbsp\;&nbsp\;&nbsp\;&nbsp\;&nbsp\;&nbsp\;&nbsp\;&nbsp\;&nbsp\;&nbsp\;&nbsp\;&nbsp\;&nbsp\;&nbsp\; Teri Muse&nbsp\;&nbsp\;&nbsp\;&nbsp\;&nbsp\;&nbsp\;&nbsp\;&nbsp\;&nbsp\;&nbsp\;&nbsp\;&nbsp\;&nbsp\;&nbsp\;&nbsp\;&nbsp\;&nbsp\;&nbsp\;&nbsp\; Waste Management<br />\nAmbassador of the Year&nbsp\;&nbsp\;&nbsp\;&nbsp\;&nbsp\;&nbsp\;&nbsp\;&nbsp\;&nbsp\;&nbsp\;&nbsp\;&nbsp\;&nbsp\;&nbsp\;&nbsp\;&nbsp\;&nbsp\;&nbsp\;&nbsp\; Sheryl Fox&nbsp\;&nbsp\;&nbsp\;&nbsp\;&nbsp\;&nbsp\;&nbsp\;&nbsp\;&nbsp\;&nbsp\;&nbsp\;&nbsp\;&nbsp\;&nbsp\;&nbsp\;&nbsp\;&nbsp\; Sheryl Fox Realty<br />\nVolunteer of the Year&nbsp\;&nbsp\;&nbsp\;&nbsp\;&nbsp\;&nbsp\;&nbsp\;&nbsp\;&nbsp\;&nbsp\;&nbsp\; </span></strong>&nbsp\; &nbsp\; &nbsp\; &nbsp\; &nbsp\; &nbsp\;<strong><span style="color:#333333\;">Steven&nbsp\;Takamatsu&nbsp\;&nbsp\;&nbsp\;&nbsp\; Steven&nbsp\;Takamatsu&nbsp\;\, DDS<br />\n&quot\;What would we do without you&quot\; &nbsp\; &nbsp\; Michael&nbsp\;Mergil&nbsp\;&nbsp\;&nbsp\;&nbsp\;&nbsp\;&nbsp\;&nbsp\;&nbsp\;&nbsp\;&nbsp\;&nbsp\; Modern Mayhem Sweets<br />\nNon-Profit of the Year&nbsp\;&nbsp\;&nbsp\;&nbsp\;&nbsp\;&nbsp\;&nbsp\;&nbsp\;&nbsp\;&nbsp\;&nbsp\;&nbsp\;&nbsp\;&nbsp\;&nbsp\;&nbsp\;&nbsp\;&nbsp\;&nbsp\;&nbsp\;&nbsp\;&nbsp\; Scott Snider&nbsp\;&nbsp\;&nbsp\;&nbsp\;&nbsp\;&nbsp\;&nbsp\;&nbsp\;&nbsp\;&nbsp\;&nbsp\;&nbsp\;&nbsp\;&nbsp\; Hillcrest Homes<br />\nSilent Partner of the Year&nbsp\;&nbsp\;&nbsp\;&nbsp\;&nbsp\;&nbsp\;&nbsp\;&nbsp\;&nbsp\;&nbsp\;&nbsp\;&nbsp\;&nbsp\;&nbsp\;&nbsp\;&nbsp\; Kaitlin Adams&nbsp\;&nbsp\;&nbsp\;&nbsp\;&nbsp\;&nbsp\;&nbsp\;&nbsp\;&nbsp\;&nbsp\;&nbsp\; Massage Envy<br />\nChamber ?Spirit? Award&nbsp\;&nbsp\;&nbsp\;&nbsp\;&nbsp\;&nbsp\;&nbsp\;&nbsp\;&nbsp\;&nbsp\;&nbsp\;&nbsp\;&nbsp\;&nbsp\;&nbsp\;&nbsp\;&nbsp\;&nbsp\; Annette Ousterhout&nbsp\; Jans Towing<br />\nDistinguished Service Award&nbsp\;&nbsp\;&nbsp\;&nbsp\;&nbsp\;&nbsp\;&nbsp\;&nbsp\;&nbsp\;&nbsp\; Hal Fredericksen&nbsp\;&nbsp\;&nbsp\;&nbsp\;&nbsp\;&nbsp\;&nbsp\;&nbsp\; City of La Verne<br />\n&nbsp\; </span></strong></span></span>\n\n<div><strong><span style="font-family: &quot\;monotype corsiva&quot\;\;"><span style="font-size: 13.5pt\;">2017 -2018 Board of Directors</span></span></strong></div>\n\n<div><span style="font-size:11px\;"><span style="font-family:verdana\;"><strong>Arun&nbsp\;Tolia&nbsp\;&nbsp\;&nbsp\;&nbsp\;&nbsp\;&nbsp\;&nbsp\;&nbsp\;&nbsp\;&nbsp\;&nbsp\;&nbsp\;&nbsp\;&nbsp\;&nbsp\;&nbsp\;&nbsp\;&nbsp\; President&nbsp\;&nbsp\;&nbsp\;&nbsp\;&nbsp\;&nbsp\;&nbsp\;&nbsp\;&nbsp\;&nbsp\;&nbsp\;&nbsp\;&nbsp\;&nbsp\;&nbsp\;&nbsp\;&nbsp\;&nbsp\;&nbsp\;&nbsp\;InvestorsTeam&nbsp\;Realty<br />\nWayne Hurley&nbsp\;&nbsp\;&nbsp\;&nbsp\;&nbsp\;&nbsp\;&nbsp\;&nbsp\;&nbsp\;&nbsp\;&nbsp\; President-Elect&nbsp\;&nbsp\;&nbsp\;&nbsp\;&nbsp\;&nbsp\;&nbsp\;&nbsp\;&nbsp\; Voya Financial Advisors<br />\nTeri Muse&nbsp\;&nbsp\;&nbsp\;&nbsp\;&nbsp\;&nbsp\;&nbsp\;&nbsp\;&nbsp\;&nbsp\;&nbsp\;&nbsp\;&nbsp\;&nbsp\;&nbsp\;&nbsp\;&nbsp\;&nbsp\;&nbsp\; Secretary&nbsp\;&nbsp\;&nbsp\;&nbsp\;&nbsp\;&nbsp\;&nbsp\;&nbsp\;&nbsp\;&nbsp\;&nbsp\;&nbsp\;&nbsp\;&nbsp\;&nbsp\;&nbsp\;&nbsp\;&nbsp\;&nbsp\; Waste Management<br />\nTina&nbsp\;Henton&nbsp\;&nbsp\;&nbsp\;&nbsp\;&nbsp\;&nbsp\;&nbsp\;&nbsp\;&nbsp\;&nbsp\;&nbsp\;&nbsp\;&nbsp\;&nbsp\; Treasurer&nbsp\;&nbsp\;&nbsp\;&nbsp\;&nbsp\;&nbsp\;&nbsp\;&nbsp\;&nbsp\;&nbsp\;&nbsp\;&nbsp\;&nbsp\;&nbsp\;&nbsp\;&nbsp\;&nbsp\;&nbsp\;&nbsp\; Vicente\, Lloyd &amp\;&nbsp\;Stutzman\, CPAs<br />\nLuis&nbsp\;Cetina&nbsp\;&nbsp\;&nbsp\;&nbsp\;&nbsp\;&nbsp\;&nbsp\;&nbsp\;&nbsp\;&nbsp\;&nbsp\;&nbsp\;&nbsp\;&nbsp\;&nbsp\;&nbsp\; Past&nbsp\;President&nbsp\;&nbsp\;&nbsp\;&nbsp\;&nbsp\;&nbsp\;&nbsp\;&nbsp\;&nbsp\;&nbsp\;&nbsp\;Metropolitian&nbsp\;Water District<br />\nJoanna Alvarez&nbsp\;&nbsp\;&nbsp\;&nbsp\;&nbsp\;&nbsp\;&nbsp\;&nbsp\;&nbsp\; Board Member&nbsp\;&nbsp\;&nbsp\;&nbsp\;&nbsp\;&nbsp\;&nbsp\;&nbsp\;&nbsp\;&nbsp\;&nbsp\; A Family Style Home<br />\nBrian&nbsp\;Bowcock&nbsp\;&nbsp\;&nbsp\;&nbsp\;&nbsp\;&nbsp\;&nbsp\;&nbsp\;&nbsp\;&nbsp\; Board Member&nbsp\;&nbsp\;&nbsp\;&nbsp\;&nbsp\;&nbsp\;&nbsp\;&nbsp\;&nbsp\;&nbsp\;&nbsp\; Three Valley&#39\;s Municipal Water&nbsp\;District<br />\nJodi Brown&nbsp\;&nbsp\;&nbsp\;&nbsp\;&nbsp\;&nbsp\;&nbsp\;&nbsp\;&nbsp\;&nbsp\;&nbsp\;&nbsp\;&nbsp\;&nbsp\;&nbsp\;&nbsp\; Board Member&nbsp\;&nbsp\;&nbsp\;&nbsp\;&nbsp\;&nbsp\;&nbsp\;&nbsp\;&nbsp\;&nbsp\;&nbsp\; Outdoor Elegance<br />\nLisa&nbsp\;Corsini</strong>&nbsp\;&nbsp\;&nbsp\;&nbsp\;&nbsp\;&nbsp\;&nbsp\;&nbsp\;&nbsp\;&nbsp\;&nbsp\;&nbsp\;&nbsp\;&nbsp\;<strong>&nbsp\; &nbsp\;Board Member&nbsp\;&nbsp\;&nbsp\;&nbsp\;&nbsp\;&nbsp\;&nbsp\;&nbsp\;&nbsp\;&nbsp\;&nbsp\;&nbsp\;GoodCo&nbsp\;Media Group<br />\nLaura Gonzales&nbsp\;&nbsp\;&nbsp\;&nbsp\;&nbsp\;&nbsp\;&nbsp\;&nbsp\;&nbsp\; Board Member&nbsp\;&nbsp\;&nbsp\;&nbsp\;&nbsp\;&nbsp\;&nbsp\;&nbsp\;&nbsp\;&nbsp\;&nbsp\; Mary Kay Cosmetics<br />\nJulie Griffith&nbsp\;&nbsp\;&nbsp\;&nbsp\;&nbsp\;&nbsp\;&nbsp\;&nbsp\;&nbsp\;&nbsp\;&nbsp\;&nbsp\;&nbsp\;&nbsp\; Board&nbsp\;Member&nbsp\;&nbsp\;&nbsp\;&nbsp\;&nbsp\;&nbsp\;&nbsp\;&nbsp\;&nbsp\;&nbsp\;&nbsp\; David &amp\; Margaret<br />\nHoward Hawkins&nbsp\;&nbsp\;&nbsp\;&nbsp\;&nbsp\;&nbsp\; Board Member&nbsp\;&nbsp\;&nbsp\;&nbsp\;&nbsp\;&nbsp\;&nbsp\;&nbsp\;&nbsp\;&nbsp\;&nbsp\; Law Offices of Howard Hawkins<br />\nMichael&nbsp\;Mergil&nbsp\;&nbsp\;&nbsp\;&nbsp\;&nbsp\;&nbsp\;&nbsp\;&nbsp\;&nbsp\;&nbsp\;&nbsp\; Board Member&nbsp\;&nbsp\;&nbsp\;&nbsp\;&nbsp\;&nbsp\;&nbsp\;&nbsp\;&nbsp\;&nbsp\;&nbsp\; Modern Mayhem Sweets<br />\nEd&nbsp\;Murfett&nbsp\;&nbsp\;&nbsp\;&nbsp\;&nbsp\;&nbsp\;&nbsp\;&nbsp\;&nbsp\;&nbsp\;&nbsp\;&nbsp\;&nbsp\;&nbsp\;&nbsp\;&nbsp\;&nbsp\; Board Member&nbsp\;&nbsp\;&nbsp\;&nbsp\;&nbsp\;&nbsp\;&nbsp\;&nbsp\;&nbsp\;&nbsp\;&nbsp\; Print Connection<br />\nScott Snider&nbsp\;&nbsp\;&nbsp\;&nbsp\;&nbsp\;&nbsp\;&nbsp\;&nbsp\;&nbsp\;&nbsp\;&nbsp\;&nbsp\;&nbsp\;&nbsp\; Board Member&nbsp\;&nbsp\;&nbsp\;&nbsp\;&nbsp\;&nbsp\;&nbsp\;&nbsp\;&nbsp\;&nbsp\;&nbsp\; Hillcrest<br />\nMorgan&nbsp\;Sternquist&nbsp\;&nbsp\;&nbsp\;&nbsp\; Board Member&nbsp\;&nbsp\;&nbsp\;&nbsp\;&nbsp\;&nbsp\;&nbsp\;&nbsp\;&nbsp\;&nbsp\;&nbsp\; Pomona Valley Habitat for Humanity<br />\nKurt&nbsp\;Weinmeister&nbsp\;&nbsp\;&nbsp\;&nbsp\;&nbsp\; Board Member&nbsp\;&nbsp\;&nbsp\;&nbsp\;&nbsp\;&nbsp\;&nbsp\;&nbsp\;&nbsp\;&nbsp\;&nbsp\; San&nbsp\;Dimas&nbsp\;Community Hospital</strong></span></span></div>\n<strong><span style="color:#333333\;"><span style="font-family:verdana\,sans-serif\;"><span style="font-size:9.0pt\;">&nbsp\;&nbsp\;</span></span></span></strong><br />\n<br />\n<span style="color:#333333\;"><span style="font-family:monotype corsiva\;"><span style="font-size:12.0pt\;">Marketing and sponsorship opportunities available contact Nikki Hoar &nbsp\;for details 626-625-6842</span></span></span></div>\n
LOCATION:The Meeting House at Hillcrest 2705 Mountain View Drive
UID:e.1883.118
SEQUENCE:3
DTSTAMP:20260423T094156Z
URL:https://business.lavernechamber.org/events/details/2017-installation-awards-dinner-118
END:VEVENT

END:VCALENDAR
