BEGIN:VCALENDAR
VERSION:2.0
PRODID:-//ChamberMaster//Event Calendar 2.0//EN
METHOD:PUBLISH
X-PUBLISHED-TTL:P3D
REFRESH-INTERVAL:P3D
CALSCALE:GREGORIAN
BEGIN:VEVENT
DTSTART:20181004T230000Z
DTEND:20181005T030000Z
X-MICROSOFT-CDO-ALLDAYEVENT:FALSE
SUMMARY:2018 Immigration Clinic
DESCRIPTION:SSt. John the Baptist Catholic Church/LA Voice\n\nIn collaboration with\n\nCongresswoman Grace F. Napolitano\n\nSenator Dr. Ed Hernandez\n\nAssemblywoman Blanca E. Rubio\n\n2018 Immigration Clinic\n\n \n\nCome and have your questions answered by Immigration Experts and Lawyers and many other resources will be available.\n\nInvited:\n\n      Legal Aid Foundation of Los Angeles\n\n      CARECEN\n\n      USCIS\n\n      Mexican American Bar Association\n\n      LA Voice\n\n      American Immigration Lawyers Association\n\n      Asian Americans Advancing Justice-LA\n\n      Catholic Charities\n\n      CHIRLA\n\n      LA County Bar Association (LACBA)\n\n      LA Law Library\n\n      COFEM\n\n      My Health LA
X-ALT-DESC;FMTTYPE=text/html:<div style="text-align: center\;"><strong><span style="color:white\;"><span style="font-size:22.0pt\;">S</span></span></strong><span style="font-size:16px\;"><strong>St. John the Baptist Catholic Church/LA Voice</strong><br />\n<strong>In collaboration with<br />\nCongresswoman Grace <span style="letter-spacing:-.9pt\;">F. </span>Napolitano<br />\nSenator <span style="letter-spacing:-.6pt\;">Dr. </span>Ed Hernandez<br />\nAssemblywoman Blanca E. Rubio</strong></span></div>\n\n<div style="text-align: center\;"><span style="font-size:22px\;"><strong>2018 Immigration Clinic</strong></span></div>\n\n<h1 style="margin-top:3.05pt\;">&nbsp\;</h1>\n\n<p style="margin-top: 3.05pt\;"><span style="color:#000000\;"><span style="font-size:14px\;">Come and have your questions answered by Immigration Experts and Lawyers and many other resources will be available.</span></span></p>\n\n<p style="margin-top: 3.05pt\;"><span style="color:#000000\;"><span style="font-size:14px\;">Invited:</span></span></p>\n\n<p style="margin-top: 3.05pt\;"><span style="color:#000000\;"><span style="font-size:14px\;">&bull\;&nbsp\;&nbsp\;&nbsp\;&nbsp\; Legal Aid Foundation of Los Angeles</span></span></p>\n\n<p style="margin-top: 3.05pt\;"><span style="color:#000000\;"><span style="font-size:14px\;">&bull\;&nbsp\;&nbsp\;&nbsp\;&nbsp\; CARECEN</span></span></p>\n\n<p style="margin-top: 3.05pt\;"><span style="color:#000000\;"><span style="font-size:14px\;">&bull\;&nbsp\;&nbsp\;&nbsp\;&nbsp\; USCIS</span></span></p>\n\n<p style="margin-top: 3.05pt\;"><span style="color:#000000\;"><span style="font-size:14px\;">&bull\;&nbsp\;&nbsp\;&nbsp\;&nbsp\; Mexican American Bar Association</span></span></p>\n\n<p style="margin-top: 3.05pt\;"><span style="color:#000000\;"><span style="font-size:14px\;">&bull\;&nbsp\;&nbsp\;&nbsp\;&nbsp\; LA Voice</span></span></p>\n\n<p style="margin-top: 3.05pt\;"><span style="color:#000000\;"><span style="font-size:14px\;">&bull\;&nbsp\;&nbsp\;&nbsp\;&nbsp\; American Immigration Lawyers Association</span></span></p>\n\n<p style="margin-top: 3.05pt\;"><span style="color:#000000\;"><span style="font-size:14px\;">&bull\;&nbsp\;&nbsp\;&nbsp\;&nbsp\; Asian Americans Advancing Justice-LA</span></span></p>\n\n<p style="margin-top: 3.05pt\;"><span style="color:#000000\;"><span style="font-size:14px\;">&bull\;&nbsp\;&nbsp\;&nbsp\;&nbsp\; Catholic Charities</span></span></p>\n\n<p style="margin-top: 3.05pt\;"><span style="color:#000000\;"><span style="font-size:14px\;">&bull\;&nbsp\;&nbsp\;&nbsp\;&nbsp\; CHIRLA</span></span></p>\n\n<p style="margin-top: 3.05pt\;"><span style="color:#000000\;"><span style="font-size:14px\;">&bull\;&nbsp\;&nbsp\;&nbsp\;&nbsp\; LA County Bar Association (LACBA)</span></span></p>\n\n<p style="margin-top: 3.05pt\;"><span style="color:#000000\;"><span style="font-size:14px\;">&bull\;&nbsp\;&nbsp\;&nbsp\;&nbsp\; LA Law Library</span></span></p>\n\n<p style="margin-top: 3.05pt\;"><span style="color:#000000\;"><span style="font-size:14px\;">&bull\;&nbsp\;&nbsp\;&nbsp\;&nbsp\; COFEM</span></span></p>\n\n<p style="margin-top: 3.05pt\;"><span style="color:#000000\;"><span style="font-size:14px\;">&bull\;&nbsp\;&nbsp\;&nbsp\;&nbsp\; My Health LA</span></span></p>\n
LOCATION:St. John the Baptist Church Parish Hall 3883 Baldwin Park Blvd. Baldwin Park\, CA 91706
UID:e.1883.1214
SEQUENCE:3
DTSTAMP:20260422T090408Z
URL:https://business.lavernechamber.org/events/details/2018-immigration-clinic-1214
END:VEVENT

END:VCALENDAR
