BEGIN:VCALENDAR
VERSION:2.0
PRODID:-//ChamberMaster//Event Calendar 2.0//EN
METHOD:PUBLISH
X-PUBLISHED-TTL:P3D
REFRESH-INTERVAL:P3D
CALSCALE:GREGORIAN
BEGIN:VEVENT
DTSTART:20190306T160000Z
DTEND:20190307T053000Z
X-MICROSOFT-CDO-ALLDAYEVENT:FALSE
SUMMARY:2019 Employment Law Review
DESCRIPTION:Don't let New Year requirements catch you by surprise. There have been several changes over the past year that business owners\, managers and HR professionals need to be aware of and understand. Join us to discuss lessons learned from 2018 and employment compliance trends for 2019. The briefing will highlight such topical trends as the compensation crisis\, discrimination and new legislation and case law with practical applications to avoid potential penalties and employer liability in the coming year.\n\n\n\n \n\nEnsure your organization is incompliance in 2019.\n\n\n\nPresented by \n\nLucy Lopez\, JD\,MSHRM\n\nHuman Resources Labor and Safety Group\, Inc.
X-ALT-DESC;FMTTYPE=text/html:<p><span style="letter-spacing:.4pt\;background:white\;"><span style="color:#6F7287\;"><span style="font-size:12.0pt\;">Don&rsquo\;t let New Year requirements catch you by surprise. There have been several changes over the past year that business owners\, managers and HR professionals need to be aware of and understand. Join us to discuss lessons learned from 2018 and employment compliance trends for 2019. The briefing will highlight such topical trends as the compensation crisis\, discrimination and new legislation and case law with practical applications to avoid potential penalties and employer liability in the coming year.</span></span></span><br />\n<br />\n&nbsp\;</p>\n\n<p style="text-align: center\;"><strong><span style="letter-spacing: 0.4pt\;"><span style="color: rgb(111\, 114\, 135)\;"><span style="font-size: 12pt\;"><span style="background-image: initial\; background-position: initial\; background-size: initial\; background-repeat: initial\; background-attachment: initial\; background-origin: initial\; background-clip: initial\;">Ensure your organization is incompliance in 2019.<br />\n<br />\nPresented by&nbsp\;</span></span></span></span></strong></p>\n\n<div style="text-align: center\;"><span style="font-size:16px\;"><span style="font-size:18px\;"><strong><span style="font-family:calibri\,sans-serif\;">Lucy Lopez\, JD\,MSHRM</span></strong></span><br />\nHuman Resources Labor and&nbsp\;Safety Group\, Inc.</span><br />\n&nbsp\;</div>\n\n<p><br />\n&nbsp\;</p>\n
LOCATION:The Plummer Community Building 245 E. Bonita Ave San Dimas\, CA 91773
UID:e.1883.1283
SEQUENCE:3
DTSTAMP:20260422T013131Z
URL:https://business.lavernechamber.org/events/details/2019-employment-law-review-1283
END:VEVENT

END:VCALENDAR
