BEGIN:VCALENDAR
VERSION:2.0
PRODID:-//ChamberMaster//Event Calendar 2.0//EN
METHOD:PUBLISH
X-PUBLISHED-TTL:P3D
REFRESH-INTERVAL:P3D
CALSCALE:GREGORIAN
BEGIN:VEVENT
DTSTART:20190321T180000Z
DTEND:20190321T200000Z
X-MICROSOFT-CDO-ALLDAYEVENT:FALSE
SUMMARY:2019 State of the City Address
DESCRIPTION:Online registration is currently closed\, please call the chamber office 909-593-5265 to resrve your spot. \n\nThe City of La Verne\, the La Verne Chamber of Commerce and La Verne Rotary continue the tradition of the annual State of the City Address and Luncheon.  This annual event provides a great opportunity to hear what is going on in our fine city.  It provides great opportunities to connect with the leadership of the city and with other business representatives.
X-ALT-DESC;FMTTYPE=text/html:<p><span style="font-size:16px\;"><strong><span style="background:#F6F6F6\;"><span style="color:#6B6767\;"><span style="font-family:lato\,serif\;">Online registration is currently closed\, please call the chamber office 909-593-5265 to resrve your spot.&nbsp\;<br />\nThe City of La Verne\, the La Verne Chamber of Commerce and La Verne Rotary continue the tradition of the annual State of the City Address and Luncheon. &nbsp\;This annual event provides a great opportunity to hear what is going on in our fine city. &nbsp\;It provides great opportunities to connect with the leadership of the city and with other business representatives.&nbsp\;</span></span></span></strong></span><br />\n&nbsp\;</p>\n
LOCATION:Hillcrest Meeting Room 2075 Mountain View Drive
UID:e.1883.1289
SEQUENCE:3
DTSTAMP:20260422T012202Z
URL:https://business.lavernechamber.org/events/details/2019-state-of-the-city-address-1289
END:VEVENT

END:VCALENDAR
