BEGIN:VCALENDAR
VERSION:2.0
PRODID:-//ChamberMaster//Event Calendar 2.0//EN
METHOD:PUBLISH
X-PUBLISHED-TTL:P3D
REFRESH-INTERVAL:P3D
CALSCALE:GREGORIAN
BEGIN:VEVENT
DTSTART:20211211T170000Z
DTEND:20211211T210000Z
X-MICROSOFT-CDO-ALLDAYEVENT:FALSE
SUMMARY:22nd Annual Winter Wonderland In La Verne
DESCRIPTION:Children can enjoy three snow runs\, two snow play lands (with real snow!)\, arts and crafts\, a cup of hot cocoa and a snack at "Mrs. Claus' Cozy Kitchen"\, and of course visit Santa at the gazebo! Parents be sure to bring your cameras for this wonderful photo opportunity. Kids should dress for snow: mittens\, gloves\, boots and jackets. Sliding saucers will be provided. There will also be food and refreshments for purchase and craft vendors for early Christmas shopping. Anyone wishing to have a booth or sponsoring a snow play area should contact the La Verne Community Center at (909) 596-8776.
X-ALT-DESC;FMTTYPE=text/html:<span style="color:#452C03\;"><span style="font-family:arial\,sans-serif\;"><span style="font-size:8.5pt\;">Children can enjoy three snow runs\, two snow play lands&nbsp\;(with real snow!)\, arts and crafts\, a cup of hot cocoa and&nbsp\;a&nbsp\;snack at &ldquo\;Mrs. Claus&rsquo\; Cozy Kitchen&rdquo\;\, and of course&nbsp\;visit Santa at the gazebo! Parents be sure to bring your&nbsp\;cameras for this wonderful photo opportunity. Kids&nbsp\;should dress for snow: mittens\, gloves\, boots and&nbsp\;jackets. Sliding saucers will be provided. There will&nbsp\;also be food and refreshments for purchase and&nbsp\;craft vendors for early Christmas shopping.&nbsp\;</span></span></span><span style="color:#452C03\;"><span style="font-family:arial\,sans-serif\;"><span style="font-size:8.5pt\;">Anyone wishing to have a booth or sponsoring&nbsp\;a snow play area should contact the La Verne&nbsp\;Community Center at (909) 596-8776.</span></span></span>
LOCATION:Heritage Park\, 5001 Via de Mansion\, LaVerne
UID:e.1883.3984
SEQUENCE:3
DTSTAMP:20260423T121025Z
URL:https://business.lavernechamber.org/events/details/22nd-annual-winter-wonderland-in-la-verne-3984
END:VEVENT

END:VCALENDAR
