BEGIN:VCALENDAR
VERSION:2.0
PRODID:-//ChamberMaster//Event Calendar 2.0//EN
METHOD:PUBLISH
X-PUBLISHED-TTL:P3D
REFRESH-INTERVAL:P3D
CALSCALE:GREGORIAN
BEGIN:VEVENT
DTSTART:20140517T150000Z
DTEND:20140517T190000Z
X-MICROSOFT-CDO-ALLDAYEVENT:FALSE
SUMMARY:2nd Annual Family Health & Fitness Fair
DESCRIPTION:The 2nd Annual Family Health & Fitness Fair & Walk.  Health & Fitness information for the family from local Health care providers.  You will walk away more enlightened about health & fitness for your entire family
X-ALT-DESC;FMTTYPE=text/html:The 2nd Annual Family Health &amp\; Fitness Fair &amp\; Walk.&nbsp\; Health &amp\; Fitness information for the family from local Health care providers.&nbsp\; You will walk away more enlightened about health &amp\; fitness for your entire family
LOCATION:Old Town La Verne on D Street
UID:e.1883.46
SEQUENCE:3
DTSTAMP:20260425T210255Z
URL:https://business.lavernechamber.org/events/details/2nd-annual-family-health-fitness-fair-05-17-2014-46
END:VEVENT

END:VCALENDAR
