BEGIN:VCALENDAR
VERSION:2.0
PRODID:-//ChamberMaster//Event Calendar 2.0//EN
METHOD:PUBLISH
X-PUBLISHED-TTL:P3D
REFRESH-INTERVAL:P3D
CALSCALE:GREGORIAN
BEGIN:VEVENT
DTSTART:20190923T160000Z
DTEND:20190924T010000Z
X-MICROSOFT-CDO-ALLDAYEVENT:FALSE
SUMMARY:31st Annual Dog Leg Classic Golf Tournament
DESCRIPTION:The Dog Leg Classic is our second largest fundraiser with all proceeds benefiting the Inland Valley Humane Society's essential programs and life-saving services. Golfers play to have fun and raise money for the animals under our care. \n\n\n\nGolfers will enjoy a round of golf at the scenic Western Hills Country Club. Beverages on the course\, golf cart\, breakfast\, lunch & dinner will be provided along with opportunities to participate in the in-game contests\, raffles & auctions.\n\n\n\nCome and play fore the animals in your community!
X-ALT-DESC;FMTTYPE=text/html:<span style="color:rgb(0\, 0\, 0)\; font-family:museo-sans\,sans-serif\; font-size:18.4px">The Dog Leg Classic is our second largest fundraiser with all proceeds benefiting the Inland Valley Humane Society&rsquo\;s essential programs and life-saving services. Golfers play to have fun and raise money for the animals under our care.&nbsp\;<br />\n<br />\nGolfers will enjoy a round of golf at the scenic Western Hills Country Club. Beverages on the course\, golf cart\, breakfast\, lunch &amp\; dinner will be provided along with opportunities to participate in the in-game contests\, raffles &amp\; auctions.<br />\n<br />\nCome and play fore the animals in your community!</span>
LOCATION:Western Hills Country Club
UID:e.1883.1730
SEQUENCE:3
DTSTAMP:20260421T175452Z
URL:https://business.lavernechamber.org/events/details/31st-annual-dog-leg-classic-golf-tournament-1730
END:VEVENT

END:VCALENDAR
