BEGIN:VCALENDAR
VERSION:2.0
PRODID:-//ChamberMaster//Event Calendar 2.0//EN
METHOD:PUBLISH
X-PUBLISHED-TTL:P3D
REFRESH-INTERVAL:P3D
CALSCALE:GREGORIAN
BEGIN:VEVENT
DTSTART:20190319T160000Z
DTEND:20190326T000000Z
X-MICROSOFT-CDO-ALLDAYEVENT:FALSE
SUMMARY:50% OFF ALL COATS AND SWEATERS!!!
DESCRIPTION:COME IN TO A PLACE IN TIME OR SHOP ONLINE TO RECEIVE 50% OFF ALL COATS AND SWEATERS! SALE ENDS MONDAY\, MARCH 25\, 2019.
X-ALT-DESC;FMTTYPE=text/html:COME IN TO A PLACE IN TIME OR SHOP ONLINE TO RECEIVE 50% OFF ALL COATS AND SWEATERS! SALE ENDS MONDAY\, MARCH 25\, 2019.&nbsp\;
LOCATION:A PLACE IN TIME 2334 D STREET\, LA VERNE\, CA 91750
UID:e.1883.1339
SEQUENCE:3
DTSTAMP:20260422T012827Z
URL:https://business.lavernechamber.org/events/details/50-off-all-coats-and-sweaters-1339
END:VEVENT

END:VCALENDAR
