BEGIN:VCALENDAR
VERSION:2.0
PRODID:-//ChamberMaster//Event Calendar 2.0//EN
METHOD:PUBLISH
X-PUBLISHED-TTL:P3D
REFRESH-INTERVAL:P3D
CALSCALE:GREGORIAN
BEGIN:VEVENT
DTSTART:20180705T000000Z
DTEND:20180705T020000Z
X-MICROSOFT-CDO-ALLDAYEVENT:FALSE
SUMMARY:55th Annual Deep Pit Barbecue
DESCRIPTION:Adult tickets are $10\; tickets for children 12 years and under are $5. A Family Pack is available for $30. The menu is beef and turkey\, buttered bread\, slaw\, cold drinks or coffee\, and dessert. The barbecue is open from 5:00 p.m. - 7:00 p.m.\, and dinners may be boxed up to take to the July 4th Fireworks Show. Tickets are available at the La Verne Methodist Church\, 3205 D Street from 9:00 a.m. to 12:00 p.m.\, Monday through Thursday.
X-ALT-DESC;FMTTYPE=text/html:Adult tickets are $10\; tickets for children 12 years and under are $5. A Family Pack is available for $30. The menu is beef and turkey\, buttered bread\, slaw\, cold drinks or coffee\, and dessert. The barbecue is open from 5:00 p.m. - 7:00 p.m.\, and dinners may be boxed up to take to the July 4th Fireworks Show. Tickets are available at the La Verne Methodist Church\, 3205 D Street from 9:00 a.m. to 12:00 p.m.\, Monday through Thursday.
LOCATION:La Verne Methodist Church 3205 D Street
UID:e.1883.687
SEQUENCE:3
DTSTAMP:20260422T133312Z
URL:https://business.lavernechamber.org/events/details/55th-annual-deep-pit-barbecue-687
END:VEVENT

END:VCALENDAR
