BEGIN:VCALENDAR
VERSION:2.0
PRODID:-//ChamberMaster//Event Calendar 2.0//EN
METHOD:PUBLISH
X-PUBLISHED-TTL:P3D
REFRESH-INTERVAL:P3D
CALSCALE:GREGORIAN
BEGIN:VEVENT
DTSTART:20260430T003000Z
DTEND:20260430T023000Z
X-MICROSOFT-CDO-ALLDAYEVENT:FALSE
SUMMARY:5th Annual Multi-Chamber Mixer at Ontario International Airport
DESCRIPTION:
X-ALT-DESC;FMTTYPE=text/html:
LOCATION:
UID:e.1883.5673
SEQUENCE:3
DTSTAMP:20260423T013140Z
URL:https://business.lavernechamber.org/events/details/5th-annual-multi-chamber-mixer-at-ontario-international-airport-5673
END:VEVENT

END:VCALENDAR
