BEGIN:VCALENDAR
VERSION:2.0
PRODID:-//ChamberMaster//Event Calendar 2.0//EN
METHOD:PUBLISH
X-PUBLISHED-TTL:P3D
REFRESH-INTERVAL:P3D
CALSCALE:GREGORIAN
BEGIN:VEVENT
DTSTART:20180929T210000Z
DTEND:20180930T020000Z
X-MICROSOFT-CDO-ALLDAYEVENT:FALSE
SUMMARY:5th Annual Pintwood Derby
DESCRIPTION:Time to dust off your tools and bust out those Jr. High woodshop skills\, and build yourself that winning car you could never seem to make back in the day. It's time for our 5th Annual Pintwood Derby and Brewers Cup!! This years event wil take place on Saturday\, September 29th at Alosta Brewing Co.\n\n\n\nWe started this event several years back as a fun\, unique way to bring families and friends together. A chance for moms and dads to work on a race car with their kids\, as well as an opportunity for adults to perhaps relive a part of their youth. Each year we get to see our customers\, both with and without children\, interacting together in good\, clean\, family fun. This truly is an event for everybody. We will have food trucks\, raffle prizes\, and a live DJ.\n\n\n\nThe track will be in prime condition\, and the weather should be great! There will be awards for the following categories:\n\n\n\n14&U - 1st\, 2nd\, 3rd\n\n15+ - 1st\, 2nd\, 3rd\n\nOutlaw Class 1st\n\nGrand Champion (winner of 14U vs. winner of 15+)\n\n\n\nBest Car Design 14U\n\nBest Car Design 15+\n\nUgliest Car\n\nBest Alosta Brewing themed car
X-ALT-DESC;FMTTYPE=text/html:Time to dust off your tools and bust out those Jr. High woodshop skills\, and build yourself that winning car you could never seem to make back in the day. It&#39\;s time for our 5th Annual Pintwood Derby and Brewers Cup!! This years event wil take place on Saturday\, September 29th at Alosta Brewing Co.<br />\n<br />\nWe started this event several years back as a fun\, unique way to bring families and friends together. A chance for moms and dads to work on a race car with their kids\, as well as an opportunity for adults to perhaps relive a part of their youth. Each year we get to see our customers\, both with and without children\, interacting together in good\, clean\, family fun. This truly is an event for everybody. We will have food trucks\, raffle prizes\, and a live DJ.<br />\n<br />\nThe track will be in prime condition\, and the weather should be great! There will be awards for the following categories:<br />\n<br />\n14&amp\;U - 1st\, 2nd\, 3rd<br />\n15+ - 1st\, 2nd\, 3rd<br />\nOutlaw Class 1st<br />\nGrand Champion (winner of 14U vs. winner of 15+)<br />\n<br />\nBest Car Design 14U<br />\nBest Car Design 15+<br />\nUgliest Car<br />\nBest Alosta Brewing themed car<br />\n<br />\n&nbsp\;
LOCATION:Alosta Brewing Co. 692 Arrow Grand Circle Covina\, CA 91722
UID:e.1883.1202
SEQUENCE:3
DTSTAMP:20260422T103622Z
URL:https://business.lavernechamber.org/events/details/5th-annual-pintwood-derby-1202
END:VEVENT

END:VCALENDAR
