BEGIN:VCALENDAR
VERSION:2.0
PRODID:-//ChamberMaster//Event Calendar 2.0//EN
METHOD:PUBLISH
X-PUBLISHED-TTL:P3D
REFRESH-INTERVAL:P3D
CALSCALE:GREGORIAN
BEGIN:VEVENT
DTSTART:20171202T220000Z
DTEND:20171203T000000Z
X-MICROSOFT-CDO-ALLDAYEVENT:FALSE
SUMMARY:A December To Remember Special Wellness Event
DESCRIPTION:Join us in introducing our new product line "Zen Bodi"! Don't let the aftermath of the holiday parties get you down. Learn how to clean\, to sculpt\, and to reprogram your body so that you can start hitting your goals and get back to a healthier weight and lifestyle. You will also have a chance to win some prizes! So come down and join in the fun! Drinks and snacks will be provided.
X-ALT-DESC;FMTTYPE=text/html:Join us in introducing our new product line &quot\;Zen Bodi&quot\;! Don&#39\;t let the aftermath of the holiday parties get you down. Learn how to clean\, to sculpt\, and to reprogram your body so that you can start hitting your goals and get back to a healthier weight and lifestyle. You will also have a chance to win some prizes! So come down and join in the fun! Drinks and snacks will be provided.
LOCATION:Slimmer Solutions 2117 Foothill Blvd Suite K La Verne\, CA 91750 Cross streets are D Street and Foothill
UID:e.1883.462
SEQUENCE:3
DTSTAMP:20260423T003120Z
URL:https://business.lavernechamber.org/events/details/a-december-to-remember-special-wellness-event-462
END:VEVENT

END:VCALENDAR
