BEGIN:VCALENDAR
VERSION:2.0
PRODID:-//ChamberMaster//Event Calendar 2.0//EN
METHOD:PUBLISH
X-PUBLISHED-TTL:P3D
REFRESH-INTERVAL:P3D
CALSCALE:GREGORIAN
BEGIN:VEVENT
DTSTART:20201028T170000Z
DTEND:20201028T183000Z
X-MICROSOFT-CDO-ALLDAYEVENT:FALSE
SUMMARY:Access to Capital Webinar
DESCRIPTION:Small business owners can learn about the financing resources available at a free upcoming webinar offered by the University of La Verne's Small Business Development Center. Learn the different types of financing opportunities available for small business owners. During this webinar\, many resources will be made available to understand the loan application process and how to access capital.\n\nTopics include:\n\n	Lending resources\n	SBA loan programs\n	Qualifications and requirements\n	SBA loan application process\n	Do's and dont's when financing your business\n\nThe University of La Verne Small Business Development Center (SBDC) stimulates economic growth in the East San Gabriel Valley by providing small businesses and entrepreneurs with free business consulting\, low-cost training\, and access to resources.
X-ALT-DESC;FMTTYPE=text/html:<span style="font-family:calibri\,sans-serif"><span style="font-size:11pt">Small business owners can learn about the financing resources available at a free upcoming webinar offered by the University of La Verne&rsquo\;s Small Business Development Center.</span></span><span style="color:black"><span style="font-family:calibri\,sans-serif"><span style="font-size:11pt">&nbsp\;Learn the different types of financing opportunities available for small business owners</span></span></span><span style="font-family:calibri\,sans-serif"><span style="font-size:11pt">. During this webinar\, many resources will be made available to understand the loan application process and how to access capital.<br />\nTopics include:</span></span>\n<ul>\n	<li>Lending resources</li>\n	<li>SBA loan programs</li>\n	<li>Qualifications and requirements</li>\n	<li>SBA loan application process</li>\n	<li>Do&#39\;s and dont&#39\;s when financing your business</li>\n</ul>\n<span style="font-family:calibri\,sans-serif\; font-size:14.6667px">The University of La Verne Small Business Development Center (SBDC) stimulates economic growth in the East San Gabriel Valley by providing small businesses and entrepreneurs with free business consulting\, low-cost training\, and access to resources.&nbsp\;</span>
LOCATION:Online Webinar via ZOOM
UID:e.1883.3342
SEQUENCE:3
DTSTAMP:20260422T045349Z
URL:https://business.lavernechamber.org/events/details/access-to-capital-webinar-3342
END:VEVENT

END:VCALENDAR
