BEGIN:VCALENDAR
VERSION:2.0
PRODID:-//ChamberMaster//Event Calendar 2.0//EN
METHOD:PUBLISH
X-PUBLISHED-TTL:P3D
REFRESH-INTERVAL:P3D
CALSCALE:GREGORIAN
BEGIN:VEVENT
DTSTART:20190313T010000Z
DTEND:20190313T023000Z
X-MICROSOFT-CDO-ALLDAYEVENT:FALSE
SUMMARY:ADA Compliance & Websites Presentation
DESCRIPTION:Find out what you need to know and what to do to protect you and your business and make your website ADA compliant\n\nThis will be a presentation featuring awareness and FAQ's\, demonstration\, Q & A\, solutions and fixes.\n\nLight refreshmets will be served\n\n\n\nWe have also created an informative website with more details and sign up.  Please visit ADAWebsite Access.com
X-ALT-DESC;FMTTYPE=text/html:Find out what you need to know and what to do to protect you and your business and make your website ADA compliant<br />\n<span style="font-family:calibri\,sans-serif\;"><span style="font-size:11.0pt\;">This will be a presentation featuring awareness and FAQ&#39\;s\, demonstration\, Q &amp\; A\,&nbsp\;solutions and fixes.<br />\nLight refreshmets will be served<br />\n<br />\nWe have also created an informative website with more details and sign up.&nbsp\; Please visit <a href="http://ADAWebsiteAccess.com" target="_blank">ADAWebsite Access.com</a></span></span>
LOCATION:The Bidwell Forum at the Glendora Public Livrary 140 Glendora Ave.
UID:e.1883.1327
SEQUENCE:3
DTSTAMP:20260422T024753Z
URL:https://business.lavernechamber.org/events/details/ada-compliance-websites-presentation-1327
END:VEVENT

END:VCALENDAR
