BEGIN:VCALENDAR
VERSION:2.0
PRODID:-//ChamberMaster//Event Calendar 2.0//EN
METHOD:PUBLISH
X-PUBLISHED-TTL:P3D
REFRESH-INTERVAL:P3D
CALSCALE:GREGORIAN
BEGIN:VEVENT
DTSTART;VALUE=DATE:20180425
DTEND;VALUE=DATE:20180426
TRANSP:TRANSPARENT
X-MICROSOFT-CDO-ALLDAYEVENT:TRUE
SUMMARY:Administrative Professionals Day
DESCRIPTION:After all that hard work they deserve a reward.
X-ALT-DESC;FMTTYPE=text/html:<div style="text-align: center\;"><span style="font-size:16px\;">After all that hard work they deserve a reward.</span><br />\n&nbsp\;</div>\n&nbsp\;\n\n<div><br />\n<br />\n&nbsp\;</div>\n
LOCATION:
UID:e.1883.641
SEQUENCE:3
DTSTAMP:20260422T194502Z
URL:https://business.lavernechamber.org/events/details/administrative-professionals-day-641
END:VEVENT

END:VCALENDAR
