BEGIN:VCALENDAR
VERSION:2.0
PRODID:-//ChamberMaster//Event Calendar 2.0//EN
METHOD:PUBLISH
X-PUBLISHED-TTL:P3D
REFRESH-INTERVAL:P3D
CALSCALE:GREGORIAN
BEGIN:VEVENT
DTSTART:20140522T003000Z
DTEND:20140522T023000Z
X-MICROSOFT-CDO-ALLDAYEVENT:FALSE
SUMMARY:After Hours Mixer
DESCRIPTION:After Hours Networking Mixer
X-ALT-DESC;FMTTYPE=text/html:After Hours Networking Mixer
LOCATION:David & Margaret Youth & Family Services 1350 Third St\, La Verne
UID:e.1883.53
SEQUENCE:3
DTSTAMP:20260425T223330Z
URL:https://business.lavernechamber.org/events/details/after-hours-mixer-05-21-2014-53
END:VEVENT

END:VCALENDAR
