BEGIN:VCALENDAR
VERSION:2.0
PRODID:-//ChamberMaster//Event Calendar 2.0//EN
METHOD:PUBLISH
X-PUBLISHED-TTL:P3D
REFRESH-INTERVAL:P3D
CALSCALE:GREGORIAN
BEGIN:VEVENT
DTSTART:20140821T003000Z
DTEND:20140821T020000Z
X-MICROSOFT-CDO-ALLDAYEVENT:FALSE
SUMMARY:After Hours Mixer
DESCRIPTION:After Hours Networking Mixer
X-ALT-DESC;FMTTYPE=text/html:After Hours Networking Mixer
LOCATION:Lifestyle Hearing Aid Solutions\, 1965 Foothill Blvd\, #R\, La Verne
UID:e.1883.57
SEQUENCE:3
DTSTAMP:20260425T160243Z
URL:https://business.lavernechamber.org/events/details/after-hours-mixer-08-20-2014-57
END:VEVENT

END:VCALENDAR
