BEGIN:VCALENDAR
VERSION:2.0
PRODID:-//ChamberMaster//Event Calendar 2.0//EN
METHOD:PUBLISH
X-PUBLISHED-TTL:P3D
REFRESH-INTERVAL:P3D
CALSCALE:GREGORIAN
BEGIN:VEVENT
DTSTART:20170622T000000Z
DTEND:20170622T020000Z
X-MICROSOFT-CDO-ALLDAYEVENT:FALSE
SUMMARY:After Hours Mixer
DESCRIPTION:Our After Hours Mixer is held at different member business each month. Each host adds a unique touch to make the event memorable.\n\nThis is a great opportunity to network and make new connections for your business in a casual setting.\n\n\n\nWe will be joined by the Glendora\, Irwindale\, Montclair\, Pomona\, San Dimas and Upland Chambers of Commerce! \n\nBring plenty of business cards and a door prize for extra recognition.
X-ALT-DESC;FMTTYPE=text/html:<span style="background-image:initial\;background-position:initial\;background-size:initial\;background-repeat:initial\;background-attachment:initial\;background-origin:initial\;background-clip:initial\;"><span style="color:black\;"><span style="font-family:arial\,sans-serif\;">Our After Hours Mixer is held at different member business each month. Each host adds a unique touch to make the event memorable.</span></span></span><br />\n<span style="background-image:initial\;background-position:initial\;background-size:initial\;background-repeat:initial\;background-attachment:initial\;background-origin:initial\;background-clip:initial\;"><span style="font-family:arial\,sans-serif\;">This is a great opportunity to network and make new connections for your business in a casual setting.<br />\n<br />\nWe will be joined by the Glendora\, Irwindale\, Montclair\, Pomona\, San Dimas and Upland Chambers of Commerce!&nbsp\;</span></span><br />\n<span style="background-image:initial\;background-position:initial\;background-size:initial\;background-repeat:initial\;background-attachment:initial\;background-origin:initial\;background-clip:initial\;"><span style="font-family:arial\,sans-serif\;">Bring plenty of business cards and a door prize for extra recognition.&nbsp\;</span></span>
LOCATION:Haynes Family of Programs 233 Baseline Rd.
UID:e.1883.122
SEQUENCE:3
DTSTAMP:20260423T105213Z
URL:https://business.lavernechamber.org/events/details/after-hours-mixer-122
END:VEVENT

END:VCALENDAR
