BEGIN:VCALENDAR
VERSION:2.0
PRODID:-//ChamberMaster//Event Calendar 2.0//EN
METHOD:PUBLISH
X-PUBLISHED-TTL:P3D
REFRESH-INTERVAL:P3D
CALSCALE:GREGORIAN
BEGIN:VEVENT
DTSTART:20190322T000000Z
DTEND:20190322T020000Z
X-MICROSOFT-CDO-ALLDAYEVENT:FALSE
SUMMARY:After Hours Mixer
DESCRIPTION:Our After Hours Mixer is held at different member business each month. Each host adds a unique touch to make the event memorable.\n\nThis is a great opportunity to network and make new connections for your business in a casual setting.\n\n\n\nBring plenty of business cards and a door prize for extra recognition. \n\n\n\nGenerously Hosted by the Soroptomist International San Dimas/La Verne\n\nwith the San Dimas Chamber of Commerce
X-ALT-DESC;FMTTYPE=text/html:<span style="background-image:initial\;background-position:initial\;background-size:initial\;background-repeat:initial\;background-attachment:initial\;background-origin:initial\;background-clip:initial\;"><span style="color:black\;"><span style="font-family:arial\,sans-serif\;">Our After Hours Mixer is held at different member business each month. Each host adds a unique touch to make the event memorable.</span></span></span><br />\n<span style="background-image:initial\;background-position:initial\;background-size:initial\;background-repeat:initial\;background-attachment:initial\;background-origin:initial\;background-clip:initial\;"><span style="font-family:arial\,sans-serif\;">This is a great opportunity to network and make new connections for your business in a casual setting.</span></span><br />\n<br />\n<span style="background-image:initial\;background-position:initial\;background-size:initial\;background-repeat:initial\;background-attachment:initial\;background-origin:initial\;background-clip:initial\;"><span style="font-family:arial\,sans-serif\;">Bring plenty of business cards and a door prize for extra recognition.&nbsp\;</span></span><br />\n<br />\n<b style="font-size: 14px\;">Generously Hosted by the Soroptomist International San Dimas/La Verne</b><br />\nwith the San Dimas Chamber of Commerce
LOCATION:Zubiate Beauchamp\, LLP 2079 Bonita Ave\, Suite 200 (second floor above Chases)
UID:e.1883.1323
SEQUENCE:3
DTSTAMP:20260422T011638Z
URL:https://business.lavernechamber.org/events/details/after-hours-mixer-1323
END:VEVENT

END:VCALENDAR
