BEGIN:VCALENDAR
VERSION:2.0
PRODID:-//ChamberMaster//Event Calendar 2.0//EN
METHOD:PUBLISH
X-PUBLISHED-TTL:P3D
REFRESH-INTERVAL:P3D
CALSCALE:GREGORIAN
BEGIN:VEVENT
DTSTART:20190620T000000Z
DTEND:20190620T020000Z
X-MICROSOFT-CDO-ALLDAYEVENT:FALSE
SUMMARY:After Hours Mixer
DESCRIPTION:Our After Hours Mixer is held at different member business each month. Each host adds a unique touch to make the event memorable.\n\nThis is a great opportunity to network and make new connections for your business in a casual setting.\n\n\n\nNetwork with Chamber Members from EIGHT Cities!\n\nLa Verne\, Claremont\, Covina\, Glendora\, Irwindale\, Pomona\, San Dimas\, Upland\n\n\n\nCampus Tours\, Meet the Haynes Team\n\nLive Music by Ron Haire's 'First M-Pulse'\n\nDining Stations\n\nLemonade & Libations\n\n\n\nBring plenty of business cards and a door prize for extra recognition.
X-ALT-DESC;FMTTYPE=text/html:<span style="background-image:initial\;background-position:initial\;background-size:initial\;background-repeat:initial\;background-attachment:initial\;background-origin:initial\;background-clip:initial\;"><span style="color:black\;"><span style="font-family:arial\,sans-serif\;">Our After Hours Mixer is held at different member business each month. Each host adds a unique touch to make the event memorable.</span></span></span><br />\n<span style="background-image:initial\;background-position:initial\;background-size:initial\;background-repeat:initial\;background-attachment:initial\;background-origin:initial\;background-clip:initial\;"><span style="font-family:arial\,sans-serif\;">This is a great opportunity to network and make new connections for your business in a casual setting.</span></span><br />\n<br />\n<span style="color: rgb(29\, 33\, 41)\; font-family: Helvetica\, Arial\, sans-serif\; font-size: 14px\; white-space: pre-wrap\;">Network with Chamber Members from EIGHT Cities!</span><br style="color: rgb(29\, 33\, 41)\; font-family: Helvetica\, Arial\, sans-serif\; font-size: 14px\; white-space: pre-wrap\;" />\n<span style="color: rgb(29\, 33\, 41)\; font-family: Helvetica\, Arial\, sans-serif\; font-size: 14px\; white-space: pre-wrap\;">La Verne\, Claremont\, Covina\, Glendora\, Irwindale\, Pomona\, San Dimas\, Upland</span><br style="color: rgb(29\, 33\, 41)\; font-family: Helvetica\, Arial\, sans-serif\; font-size: 14px\; white-space: pre-wrap\;" />\n<br style="color: rgb(29\, 33\, 41)\; font-family: Helvetica\, Arial\, sans-serif\; font-size: 14px\; white-space: pre-wrap\;" />\n<span style="color: rgb(29\, 33\, 41)\; font-family: Helvetica\, Arial\, sans-serif\; font-size: 14px\; white-space: pre-wrap\;">Campus Tours\, Meet the Haynes Team</span><br style="color: rgb(29\, 33\, 41)\; font-family: Helvetica\, Arial\, sans-serif\; font-size: 14px\; white-space: pre-wrap\;" />\n<span style="color: rgb(29\, 33\, 41)\; font-family: Helvetica\, Arial\, sans-serif\; font-size: 14px\; white-space: pre-wrap\;">Live Music by Ron Haire&rsquo\;s &lsquo\;First M-Pulse&rsquo\;</span><br style="color: rgb(29\, 33\, 41)\; font-family: Helvetica\, Arial\, sans-serif\; font-size: 14px\; white-space: pre-wrap\;" />\n<span style="color: rgb(29\, 33\, 41)\; font-family: Helvetica\, Arial\, sans-serif\; font-size: 14px\; white-space: pre-wrap\;">Dining Stations</span><br style="color: rgb(29\, 33\, 41)\; font-family: Helvetica\, Arial\, sans-serif\; font-size: 14px\; white-space: pre-wrap\;" />\n<span style="color: rgb(29\, 33\, 41)\; font-family: Helvetica\, Arial\, sans-serif\; font-size: 14px\; white-space: pre-wrap\;">Lemonade &amp\; Libations</span><br />\n<br />\n<span style="background-image:initial\;background-position:initial\;background-size:initial\;background-repeat:initial\;background-attachment:initial\;background-origin:initial\;background-clip:initial\;"><span style="font-family:arial\,sans-serif\;">Bring plenty of business cards and a door prize for extra recognition.&nbsp\;</span></span>
LOCATION:Haynes Family of Programs
UID:e.1883.1439
SEQUENCE:3
DTSTAMP:20260421T204120Z
URL:https://business.lavernechamber.org/events/details/after-hours-mixer-1439
END:VEVENT

END:VCALENDAR
