BEGIN:VCALENDAR
VERSION:2.0
PRODID:-//ChamberMaster//Event Calendar 2.0//EN
METHOD:PUBLISH
X-PUBLISHED-TTL:P3D
REFRESH-INTERVAL:P3D
CALSCALE:GREGORIAN
BEGIN:VEVENT
DTSTART:20140220T013000Z
DTEND:20140220T030000Z
X-MICROSOFT-CDO-ALLDAYEVENT:FALSE
SUMMARY:After Hours Networking Mixer
DESCRIPTION:After Hours Mixer - Join us for Networking
X-ALT-DESC;FMTTYPE=text/html:After Hours Mixer - Join us for Networking
LOCATION:Chase's LLC\, 2136 Third St\, La Verne
UID:e.1883.11
SEQUENCE:3
DTSTAMP:20260426T013453Z
URL:https://business.lavernechamber.org/events/details/after-hours-networking-mixer-02-19-2014-11
END:VEVENT

END:VCALENDAR
