BEGIN:VCALENDAR
VERSION:2.0
PRODID:-//ChamberMaster//Event Calendar 2.0//EN
METHOD:PUBLISH
X-PUBLISHED-TTL:P3D
REFRESH-INTERVAL:P3D
CALSCALE:GREGORIAN
BEGIN:VEVENT
DTSTART:20140318T003000Z
DTEND:20140318T020000Z
X-MICROSOFT-CDO-ALLDAYEVENT:FALSE
SUMMARY:After Hours Networking Mixer
DESCRIPTION:Networking Mixer/St Patrick's Day Celebration - Be sure to wear Green
X-ALT-DESC;FMTTYPE=text/html:Networking Mixer/St Patrick&#39\;s Day Celebration - Be sure to wear Green
LOCATION:George Henderson - Henderson Insurance will be hosting.2123 Third Street\, La Verne
UID:e.1883.13
SEQUENCE:3
DTSTAMP:20260426T001812Z
URL:https://business.lavernechamber.org/events/details/after-hours-networking-mixer-03-17-2014-13
END:VEVENT

END:VCALENDAR
