BEGIN:VCALENDAR
VERSION:2.0
PRODID:-//ChamberMaster//Event Calendar 2.0//EN
METHOD:PUBLISH
X-PUBLISHED-TTL:P3D
REFRESH-INTERVAL:P3D
CALSCALE:GREGORIAN
BEGIN:VEVENT
DTSTART:20141120T013000Z
DTEND:20141120T030000Z
X-MICROSOFT-CDO-ALLDAYEVENT:FALSE
SUMMARY:After Hours Networking Mixer
DESCRIPTION:After Hours Networking Mixer at OSH Hardware.  15% Discount on one item to all chamber members
X-ALT-DESC;FMTTYPE=text/html:After Hours Networking Mixer at OSH Hardware.&nbsp\; 15% Discount on one item to all chamber members
LOCATION:Foothill Blvd & White Ave
UID:e.1883.69
SEQUENCE:3
DTSTAMP:20260425T114232Z
URL:https://business.lavernechamber.org/events/details/after-hours-networking-mixer-11-19-2014-69
END:VEVENT

END:VCALENDAR
