BEGIN:VCALENDAR
VERSION:2.0
PRODID:-//ChamberMaster//Event Calendar 2.0//EN
METHOD:PUBLISH
X-PUBLISHED-TTL:P3D
REFRESH-INTERVAL:P3D
CALSCALE:GREGORIAN
BEGIN:VEVENT
DTSTART:20200310T230000Z
DTEND:20200311T000000Z
X-MICROSOFT-CDO-ALLDAYEVENT:FALSE
SUMMARY:After School Adventures
DESCRIPTION:Join us for afterschool games\, crafts\, and STEAM activities. You never know what adventures will be waiting! Check out the lobby each week to see what adventure awaits.\n\nGrades 1 - 6
X-ALT-DESC;FMTTYPE=text/html:<div><span style="font-size: 13px\;">Join us for afterschool games\, crafts\, and STEAM activities. You never know what adventures will be waiting! Check out the lobby each week to see what adventure awaits.</span></div>\n\n<div><span style="font-size: 13px\;">Grades 1 - 6</span></div>\n
LOCATION:La Verne Public Library
UID:e.1883.2211
SEQUENCE:3
DTSTAMP:20260420T043100Z
URL:https://business.lavernechamber.org/events/details/after-school-adventures-2211
END:VEVENT

END:VCALENDAR
