BEGIN:VCALENDAR
VERSION:2.0
PRODID:-//ChamberMaster//Event Calendar 2.0//EN
METHOD:PUBLISH
X-PUBLISHED-TTL:P3D
REFRESH-INTERVAL:P3D
CALSCALE:GREGORIAN
BEGIN:VEVENT
DTSTART:20191012T143000Z
DTEND:20191012T210000Z
X-MICROSOFT-CDO-ALLDAYEVENT:FALSE
SUMMARY:Aging Well & Younger Next Year Seminar with Emanate Health
DESCRIPTION:Getting older doesn't mean life has to slow down | Secrets of staying young\n\n\n\nNo doctor's appointment necessary. Hear from the best physicians in Southern California! Join us for an event that gives you exclusive access to learn the latest on:\n\n  Sex health\n\n  Joint care\n\n  Brain strength   how to stay sharp!\n\n  Vitamins and supplements\n\n  Aging well tips and tricks\n\n\n\nEmanate Health\, Cedars-Sinai Medical Center\, USC Keck School of Medicine\, and UC Irvine School of Medicine will all be featuring physicians for this event.\n\n\n\nFeatured speakers include:\n\n\n\nEmanate Health\, Claudia Munoz\, MD   Brain Booster & Dementia\n\nEmanate Health\, Edward Tangchitnob\, MD   Sex Health & Seniors: A Perspective for Baby Boomers\n\nEmanate Health\, Ankur Patel\, MD   Joint Care & Orthopedics: Keep Movin' & Flexin'\n\nCedars-Sinai Medical Center\, Sonja Rosen\, MD   Secrets of Successful Aging & the Biology of Aging\n\nKeck School of Medicine of USC\, Kurt Hong\, PhD   Vitamin & Mineral Supplements\, Truths & Falsehoods\n\nUC Irvine School of Medicine\, John Luo\, MD   Digital Health for Seniors
X-ALT-DESC;FMTTYPE=text/html:<div><span style="color: rgb(86\, 92\, 104)\; font-family: &quot\;Open Sans&quot\;\, &quot\;Helvetica Neue&quot\;\, Helvetica\, Arial\, sans-serif\;">Getting older doesn&rsquo\;t mean life has to slow down | Secrets of staying young</span><br style="color: rgb(86\, 92\, 104)\; font-family: &quot\;Open Sans&quot\;\, &quot\;Helvetica Neue&quot\;\, Helvetica\, Arial\, sans-serif\;" />\n<br style="color: rgb(86\, 92\, 104)\; font-family: &quot\;Open Sans&quot\;\, &quot\;Helvetica Neue&quot\;\, Helvetica\, Arial\, sans-serif\;" />\n<span style="color: rgb(86\, 92\, 104)\; font-family: &quot\;Open Sans&quot\;\, &quot\;Helvetica Neue&quot\;\, Helvetica\, Arial\, sans-serif\;">No doctor&rsquo\;s appointment necessary. Hear from the best physicians in Southern California! Join us for an event that gives you exclusive access to learn the latest on:</span><br style="color: rgb(86\, 92\, 104)\; font-family: &quot\;Open Sans&quot\;\, &quot\;Helvetica Neue&quot\;\, Helvetica\, Arial\, sans-serif\;" />\n<span style="color: rgb(86\, 92\, 104)\; font-family: &quot\;Open Sans&quot\;\, &quot\;Helvetica Neue&quot\;\, Helvetica\, Arial\, sans-serif\;">&bull\; Sex health</span><br style="color: rgb(86\, 92\, 104)\; font-family: &quot\;Open Sans&quot\;\, &quot\;Helvetica Neue&quot\;\, Helvetica\, Arial\, sans-serif\;" />\n<span style="color: rgb(86\, 92\, 104)\; font-family: &quot\;Open Sans&quot\;\, &quot\;Helvetica Neue&quot\;\, Helvetica\, Arial\, sans-serif\;">&bull\; Joint care</span><br style="color: rgb(86\, 92\, 104)\; font-family: &quot\;Open Sans&quot\;\, &quot\;Helvetica Neue&quot\;\, Helvetica\, Arial\, sans-serif\;" />\n<span style="color: rgb(86\, 92\, 104)\; font-family: &quot\;Open Sans&quot\;\, &quot\;Helvetica Neue&quot\;\, Helvetica\, Arial\, sans-serif\;">&bull\; Brain strength &ndash\; how to stay sharp!</span><br style="color: rgb(86\, 92\, 104)\; font-family: &quot\;Open Sans&quot\;\, &quot\;Helvetica Neue&quot\;\, Helvetica\, Arial\, sans-serif\;" />\n<span style="color: rgb(86\, 92\, 104)\; font-family: &quot\;Open Sans&quot\;\, &quot\;Helvetica Neue&quot\;\, Helvetica\, Arial\, sans-serif\;">&bull\; Vitamins and supplements</span><br style="color: rgb(86\, 92\, 104)\; font-family: &quot\;Open Sans&quot\;\, &quot\;Helvetica Neue&quot\;\, Helvetica\, Arial\, sans-serif\;" />\n<span style="color: rgb(86\, 92\, 104)\; font-family: &quot\;Open Sans&quot\;\, &quot\;Helvetica Neue&quot\;\, Helvetica\, Arial\, sans-serif\;">&bull\; Aging well tips and tricks</span><br style="color: rgb(86\, 92\, 104)\; font-family: &quot\;Open Sans&quot\;\, &quot\;Helvetica Neue&quot\;\, Helvetica\, Arial\, sans-serif\;" />\n<br style="color: rgb(86\, 92\, 104)\; font-family: &quot\;Open Sans&quot\;\, &quot\;Helvetica Neue&quot\;\, Helvetica\, Arial\, sans-serif\;" />\n<span style="color: rgb(86\, 92\, 104)\; font-family: &quot\;Open Sans&quot\;\, &quot\;Helvetica Neue&quot\;\, Helvetica\, Arial\, sans-serif\;">Emanate Health\, Cedars-Sinai Medical Center\, USC Keck School of Medicine\, and UC Irvine School of Medicine will all be featuring physicians for this event.</span><br style="color: rgb(86\, 92\, 104)\; font-family: &quot\;Open Sans&quot\;\, &quot\;Helvetica Neue&quot\;\, Helvetica\, Arial\, sans-serif\;" />\n<br style="color: rgb(86\, 92\, 104)\; font-family: &quot\;Open Sans&quot\;\, &quot\;Helvetica Neue&quot\;\, Helvetica\, Arial\, sans-serif\;" />\n<span style="color: rgb(86\, 92\, 104)\; font-family: &quot\;Open Sans&quot\;\, &quot\;Helvetica Neue&quot\;\, Helvetica\, Arial\, sans-serif\;">Featured speakers include:</span><br style="color: rgb(86\, 92\, 104)\; font-family: &quot\;Open Sans&quot\;\, &quot\;Helvetica Neue&quot\;\, Helvetica\, Arial\, sans-serif\;" />\n<br style="color: rgb(86\, 92\, 104)\; font-family: &quot\;Open Sans&quot\;\, &quot\;Helvetica Neue&quot\;\, Helvetica\, Arial\, sans-serif\;" />\n<span style="color: rgb(86\, 92\, 104)\; font-family: &quot\;Open Sans&quot\;\, &quot\;Helvetica Neue&quot\;\, Helvetica\, Arial\, sans-serif\;">Emanate Health\, Claudia Munoz\, MD &ndash\; Brain Booster &amp\; Dementia</span><br style="color: rgb(86\, 92\, 104)\; font-family: &quot\;Open Sans&quot\;\, &quot\;Helvetica Neue&quot\;\, Helvetica\, Arial\, sans-serif\;" />\n<span style="color: rgb(86\, 92\, 104)\; font-family: &quot\;Open Sans&quot\;\, &quot\;Helvetica Neue&quot\;\, Helvetica\, Arial\, sans-serif\;">Emanate Health\, Edward Tangchitnob\, MD &ndash\; Sex Health &amp\; Seniors: A Perspective for Baby Boomers</span><br style="color: rgb(86\, 92\, 104)\; font-family: &quot\;Open Sans&quot\;\, &quot\;Helvetica Neue&quot\;\, Helvetica\, Arial\, sans-serif\;" />\n<span style="color: rgb(86\, 92\, 104)\; font-family: &quot\;Open Sans&quot\;\, &quot\;Helvetica Neue&quot\;\, Helvetica\, Arial\, sans-serif\;">Emanate Health\, Ankur Patel\, MD &ndash\; Joint Care &amp\; Orthopedics: Keep Movin&#39\; &amp\; Flexin&#39\;</span><br style="color: rgb(86\, 92\, 104)\; font-family: &quot\;Open Sans&quot\;\, &quot\;Helvetica Neue&quot\;\, Helvetica\, Arial\, sans-serif\;" />\n<span style="color: rgb(86\, 92\, 104)\; font-family: &quot\;Open Sans&quot\;\, &quot\;Helvetica Neue&quot\;\, Helvetica\, Arial\, sans-serif\;">Cedars-Sinai Medical Center\, Sonja Rosen\, MD &ndash\; Secrets of Successful Aging &amp\; the Biology of Aging</span><br style="color: rgb(86\, 92\, 104)\; font-family: &quot\;Open Sans&quot\;\, &quot\;Helvetica Neue&quot\;\, Helvetica\, Arial\, sans-serif\;" />\n<span style="color: rgb(86\, 92\, 104)\; font-family: &quot\;Open Sans&quot\;\, &quot\;Helvetica Neue&quot\;\, Helvetica\, Arial\, sans-serif\;">Keck School of Medicine of USC\, Kurt Hong\, PhD &ndash\; Vitamin &amp\; Mineral Supplements\, Truths &amp\; Falsehoods</span><br style="color: rgb(86\, 92\, 104)\; font-family: &quot\;Open Sans&quot\;\, &quot\;Helvetica Neue&quot\;\, Helvetica\, Arial\, sans-serif\;" />\n<span style="color: rgb(86\, 92\, 104)\; font-family: &quot\;Open Sans&quot\;\, &quot\;Helvetica Neue&quot\;\, Helvetica\, Arial\, sans-serif\;">UC Irvine School of Medicine\, John Luo\, MD &ndash\; Digital Health for Seniors</span>\n<p>&nbsp\;</p>\n</div>\n
LOCATION:Pacific Palms Resort
UID:e.1883.1780
SEQUENCE:3
DTSTAMP:20260421T145903Z
URL:https://business.lavernechamber.org/events/details/aging-well-younger-next-year-seminar-with-emanate-health-1780
END:VEVENT

END:VCALENDAR
