BEGIN:VCALENDAR
VERSION:2.0
PRODID:-//ChamberMaster//Event Calendar 2.0//EN
METHOD:PUBLISH
X-PUBLISHED-TTL:P3D
REFRESH-INTERVAL:P3D
CALSCALE:GREGORIAN
BEGIN:VEVENT
DTSTART:20191220T200000Z
DTEND:20191220T200000Z
X-MICROSOFT-CDO-ALLDAYEVENT:FALSE
SUMMARY:American Lung Association - Vaping Risks
DESCRIPTION:Join us for a discussion with the American Lung Association and learn about the health effects of vaping and methods to quit vaping.\n\n* Parents please be aware refreshments will be served at this program. A list of ingredients will be made available.
X-ALT-DESC;FMTTYPE=text/html:<div><span style="font-size: 13px\;">Join us for a discussion with the American Lung Association and learn about the health effects of vaping and methods to quit vaping.</span></div>\n\n<div><span style="font-size: 13px\;">* Parents please be aware refreshments will be served at this program. A list of ingredients will be made available.</span></div>\n
LOCATION:La Verne Library
UID:e.1883.2138
SEQUENCE:3
DTSTAMP:20260421T144057Z
URL:https://business.lavernechamber.org/events/details/american-lung-association-vaping-risks-2138
END:VEVENT

END:VCALENDAR
