BEGIN:VCALENDAR
VERSION:2.0
PRODID:-//ChamberMaster//Event Calendar 2.0//EN
METHOD:PUBLISH
X-PUBLISHED-TTL:P3D
REFRESH-INTERVAL:P3D
CALSCALE:GREGORIAN
BEGIN:VEVENT
DTSTART:20190317T223000Z
DTEND:20190318T003000Z
X-MICROSOFT-CDO-ALLDAYEVENT:FALSE
SUMMARY:An Afternoon of Free Music with the Claremont Symphony Orchestra
DESCRIPTION:The Claremont Symphony Orchestra is an all-volunteer community orchestra based in Claremont\, California.  Led by Music Director Robert Sage\, the CSO marks its 66th season providing FREE classical music concerts to Claremont and its neighboring communities.\n\n\n\nJeremiah Cossa\, piano\n\n	Franz Liszt: Piano Concerto No. 1 in E-flat major\, S. 124\n	Gustav Mahler: Symphony No. 1 in D major
X-ALT-DESC;FMTTYPE=text/html:<span style="color: rgb(102\, 102\, 102)\; font-family: Tahoma\, arial\, sans-serif\; font-size: medium\;">The&nbsp\;</span><strong style="color: rgb(102\, 102\, 102)\; font-family: Tahoma\, arial\, sans-serif\; font-size: medium\;">Claremont Symphony Orchestra</strong><span style="color: rgb(102\, 102\, 102)\; font-family: Tahoma\, arial\, sans-serif\; font-size: medium\;">&nbsp\;is an all-volunteer community orchestra based in Claremont\, California.&nbsp\; Led by Music Director Robert Sage\, the CSO marks its 66th season providing FREE classical music concerts to Claremont and its neighboring communities.</span><br />\n<br />\n<font size="3" style="color: rgb(102\, 102\, 102)\; font-family: Tahoma\, arial\, sans-serif\;"><a href="http://www.claremontso.org/soloists.html" style="color: rgb(255\, 143\, 0)\; text-decoration-line: none\;">Jeremiah Cossa</a>\, piano</font>\n<ul style="padding-right: 0px\; color: rgb(102\, 102\, 102)\; font-family: Tahoma\, arial\, sans-serif\; margin: 5px 0px !important\; padding-left: 3em !important\; list-style-position: outside !important\; list-style-image: initial !important\;">\n	<li style="margin: 3px 0px 0px !important\; padding-top: 0px\; padding-right: 0px\; padding-bottom: 0px\; padding-left: 5px !important\; list-style: disc outside !important\;"><font size="3">Franz Liszt: Piano Concerto No. 1 in E-flat major\, S. 124</font></li>\n	<li style="margin: 3px 0px 0px !important\; padding-top: 0px\; padding-right: 0px\; padding-bottom: 0px\; padding-left: 5px !important\; list-style: disc outside !important\;"><font size="3">Gustav Mahler: Symphony No. 1 in D major</font></li>\n</ul>\n
LOCATION:Bridges Hall of Music\, 150 E. 4th Street (corner of 4th and College)\, Claremont\, CA\, on Pomona College campus
UID:e.1883.1333
SEQUENCE:3
DTSTAMP:20260422T012305Z
URL:https://business.lavernechamber.org/events/details/an-afternoon-of-free-music-with-the-claremont-symphony-orchestra-1333
END:VEVENT

END:VCALENDAR
