BEGIN:VCALENDAR
VERSION:2.0
PRODID:-//ChamberMaster//Event Calendar 2.0//EN
METHOD:PUBLISH
X-PUBLISHED-TTL:P3D
REFRESH-INTERVAL:P3D
CALSCALE:GREGORIAN
BEGIN:VEVENT
DTSTART:20190505T223000Z
DTEND:20190506T003000Z
X-MICROSOFT-CDO-ALLDAYEVENT:FALSE
SUMMARY:An Afternoon of Free Music with the Claremont Symphony Orchestra
DESCRIPTION:The Claremont Symphony Orchestra is an all-volunteer community orchestra based in Claremont\, California.  Led by Music Director Robert Sage\, the CSO marks its 66th season providing FREE classical music concerts to Claremont and its neighboring communities.\n\n\n\nRuth Charloff\, conductor\n\nSarah Thornblade\, violin\n\n\n	Johann Sebastian Bach\, arr. Lucien Cailliet: Little Fugue for Orchestra in G minor \n	Felix Mendelssohn: Violin Concerto in E minor\, Op. 64\n	Hector Berlioz: March and Royal Hunt & Storm from Les Troyens\n	Manuel de Falla: The Three-Cornered Hat\, Suite No. 2
X-ALT-DESC;FMTTYPE=text/html:<span style="color: rgb(102\, 102\, 102)\; font-family: Tahoma\, arial\, sans-serif\; font-size: medium\;">The&nbsp\;</span><strong style="color: rgb(102\, 102\, 102)\; font-family: Tahoma\, arial\, sans-serif\; font-size: medium\;">Claremont Symphony Orchestra</strong><span style="color: rgb(102\, 102\, 102)\; font-family: Tahoma\, arial\, sans-serif\; font-size: medium\;">&nbsp\;is an all-volunteer community orchestra based in Claremont\, California.&nbsp\; Led by Music Director Robert Sage\, the CSO marks its 66th season providing FREE classical music concerts to Claremont and its neighboring communities.</span><br />\n<br />\n<font size="3" style="color: rgb(102\, 102\, 102)\; font-family: Tahoma\, arial\, sans-serif\; background-color: rgb(255\, 255\, 255)\;">Ruth Charloff\, conductor<br />\n<a href="http://www.claremontso.org/soloists.html" style="color: rgb(228\, 102\, 0)\; text-decoration-line: none\;">Sarah Thornblade</a>\, violin</font>\n\n<ul style="padding-top: 0px\; padding-right: 0px\; padding-bottom: 0px\; color: rgb(102\, 102\, 102)\; font-family: Tahoma\, arial\, sans-serif\; font-size: 13px\; background-color: rgb(255\, 255\, 255)\; margin: 5px 0px !important\; padding-left: 3em !important\; list-style-position: outside !important\; list-style-image: initial !important\;">\n	<li style="margin: 3px 0px 0px !important\; padding-top: 0px\; padding-right: 0px\; padding-bottom: 0px\; padding-left: 5px !important\; list-style: disc outside !important\;"><font size="3">Johann Sebastian Bach\, arr. Lucien Cailliet: Little Fugue for Orchestra in G minor</font>&#8203\;</li>\n	<li style="margin: 3px 0px 0px !important\; padding-top: 0px\; padding-right: 0px\; padding-bottom: 0px\; padding-left: 5px !important\; list-style: disc outside !important\;"><font size="3">Felix Mendelssohn: Violin Concerto in E minor\, Op. 64</font></li>\n	<li style="margin: 3px 0px 0px !important\; padding-top: 0px\; padding-right: 0px\; padding-bottom: 0px\; padding-left: 5px !important\; list-style: disc outside !important\;"><font size="3">Hector Berlioz: March and Royal Hunt &amp\; Storm from&nbsp\;<em style="position: relative\;">Les Troyens</em></font></li>\n	<li style="margin: 3px 0px 0px !important\; padding-top: 0px\; padding-right: 0px\; padding-bottom: 0px\; padding-left: 5px !important\; list-style: disc outside !important\;"><font size="3">Manuel de Falla: The Three-Cornered Hat\, Suite No. 2</font></li>\n</ul>\n
LOCATION:Bridges Hall of Music\, 150 E. 4th Street (corner of 4th and College)\, Claremont\, CA\, on Pomona College campus
UID:e.1883.1334
SEQUENCE:3
DTSTAMP:20260421T222740Z
URL:https://business.lavernechamber.org/events/details/an-afternoon-of-free-music-with-the-claremont-symphony-orchestra-1334
END:VEVENT

END:VCALENDAR
