BEGIN:VCALENDAR
VERSION:2.0
PRODID:-//ChamberMaster//Event Calendar 2.0//EN
METHOD:PUBLISH
X-PUBLISHED-TTL:P3D
REFRESH-INTERVAL:P3D
CALSCALE:GREGORIAN
BEGIN:VEVENT
DTSTART:20140704T170000Z
DTEND:20140704T190000Z
X-MICROSOFT-CDO-ALLDAYEVENT:FALSE
SUMMARY:Annual 4th of July Parade
DESCRIPTION:4th of July Parade consists of local business owners\, community leaders and anyone who would like to be in the parade.
X-ALT-DESC;FMTTYPE=text/html:4th of July Parade consists of local business owners\, community leaders and anyone who would like to be in the parade.
LOCATION:Parade starts at Bonita High School on D street and weaves through town
UID:e.1883.55
SEQUENCE:3
DTSTAMP:20260425T174349Z
URL:https://business.lavernechamber.org/events/details/annual-4th-of-july-parade-07-04-2014-55
END:VEVENT

END:VCALENDAR
