BEGIN:VCALENDAR
VERSION:2.0
PRODID:-//ChamberMaster//Event Calendar 2.0//EN
METHOD:PUBLISH
X-PUBLISHED-TTL:P3D
REFRESH-INTERVAL:P3D
CALSCALE:GREGORIAN
BEGIN:VEVENT
DTSTART:20190922T003000Z
DTEND:20190922T050000Z
X-MICROSOFT-CDO-ALLDAYEVENT:FALSE
SUMMARY:Annual Gala 'Fostering Community'
DESCRIPTION:Join us as we celebrate and raise funds for youth in foster care! This year we're honoring former Board President Cindy Walkenbach and outstanding youth Joel Ramirez. Gourmet food\, fine wines\, silent and live auctions\, and much more! To register or preview the silent auction\, visit https://one.bidpal.net/community/welcome
X-ALT-DESC;FMTTYPE=text/html:Join us as we celebrate and raise funds for youth in foster care! This year we&#39\;re honoring former Board President Cindy Walkenbach and outstanding youth Joel Ramirez. Gourmet food\, fine wines\, silent and live auctions\, and much more! To register or preview the silent auction\, visit&nbsp\;<a href="https://one.bidpal.net/community/welcome">https://one.bidpal.net/community/welcome</a>
LOCATION:Glendora Country Club
UID:e.1883.1721
SEQUENCE:3
DTSTAMP:20260421T161416Z
URL:https://business.lavernechamber.org/events/details/annual-gala-fostering-community-1721
END:VEVENT

END:VCALENDAR
