BEGIN:VCALENDAR
VERSION:2.0
PRODID:-//ChamberMaster//Event Calendar 2.0//EN
METHOD:PUBLISH
X-PUBLISHED-TTL:P3D
REFRESH-INTERVAL:P3D
CALSCALE:GREGORIAN
BEGIN:VEVENT
DTSTART:20170607T193000Z
DTEND:20170607T203000Z
X-MICROSOFT-CDO-ALLDAYEVENT:FALSE
SUMMARY:Annual Membership Meeting
DESCRIPTION:In accordance with the by-laws of the La Verne Chamber of Commerce\, we will be holding our annual membership meeting on Wednesday June 7th at 12:30 pm at the Meeting Room at Hillcrest. At the meeting we will be discussing the new benefits of membership in the La Verne Chamber of Commerce along with our plans to provide opportunities for business to grow and prosper in the City of La Verne and surrounding area. \n\nThe Board of Directors encourages you to attend this important annual meeting.\n\n\n\nIf you would like to join us for our Business Connections at 11:30\, please RSVP here  there is a $25 fee for this event.
X-ALT-DESC;FMTTYPE=text/html:<span style="font-family:arial\,sans-serif\;"><span style="font-size:10pt\;">In accordance with the by-laws of the La Verne Chamber of Commerce\, we will be holding our annual membership meeting on Wednesday June 7<sup>th</sup> at 12:30 pm at the Meeting Room at Hillcrest. At the meeting we will be discussing the new benefits of membership in the La Verne Chamber of Commerce along with our plans to provide opportunities for business to grow and prosper in the City of La Verne and surrounding area. </span></span><br />\n<span style="font-family:arial\,sans-serif\;"><span style="font-size:10pt\;">The Board of Directors encourages you to attend this important annual meeting.</span></span><br />\n<br />\nIf you would like to join us for our Business Connections at 11:30\, please RSVP <a href="http://lavernechamber.chambermaster.com/events/details/business-connections-luncheon-119">here</a>&nbsp\; there is a $25 fee for this event.
LOCATION:The Meeting Room at Hillcrest 2705 Mountain View Drive
UID:e.1883.120
SEQUENCE:3
DTSTAMP:20260423T105350Z
URL:https://business.lavernechamber.org/events/details/annual-membership-meeting-120
END:VEVENT

END:VCALENDAR
