BEGIN:VCALENDAR
VERSION:2.0
PRODID:-//ChamberMaster//Event Calendar 2.0//EN
METHOD:PUBLISH
X-PUBLISHED-TTL:P3D
REFRESH-INTERVAL:P3D
CALSCALE:GREGORIAN
BEGIN:VEVENT
DTSTART:20140619T000000Z
DTEND:20140619T020000Z
X-MICROSOFT-CDO-ALLDAYEVENT:FALSE
SUMMARY:Annual Multi CHamber Mixer hosted by LeRoy Haynes
DESCRIPTION:Annual Multi Chamber Mixer with  the following cities:  La Verne\, Claremont\, Glendora\, Irwindale\, Montclair\, Pomona\, San DImas\, and Upland
X-ALT-DESC;FMTTYPE=text/html:Annual Multi Chamber Mixer with&nbsp\; the following cities:&nbsp\; La Verne\, Claremont\, Glendora\, Irwindale\, Montclair\, Pomona\, San DImas\, and Upland
LOCATION:LeRoy Haynes Center \, 233 W Baseline Rd\, La Verne 593-2581
UID:e.1883.51
SEQUENCE:3
DTSTAMP:20260425T192221Z
URL:https://business.lavernechamber.org/events/details/annual-multi-chamber-mixer-hosted-by-leroy-haynes-06-18-2014-51
END:VEVENT

END:VCALENDAR
