BEGIN:VCALENDAR
VERSION:2.0
PRODID:-//ChamberMaster//Event Calendar 2.0//EN
METHOD:PUBLISH
X-PUBLISHED-TTL:P3D
REFRESH-INTERVAL:P3D
CALSCALE:GREGORIAN
BEGIN:VEVENT
DTSTART:20140413T230000Z
DTEND:20140414T020000Z
X-MICROSOFT-CDO-ALLDAYEVENT:FALSE
SUMMARY:Annual Wine Extravaganza and Auction
DESCRIPTION:Wine Extravaganza & Auction benefiting Pomona Valley Habitat for Humanity and Sowing Seeds for Life.  An evening of wines and gourmet foods
X-ALT-DESC;FMTTYPE=text/html:Wine Extravaganza &amp\; Auction benefiting Pomona Valley Habitat for Humanity and Sowing Seeds for Life.&nbsp\; An evening of wines and gourmet foods
LOCATION:Doubletree by Hilton\, 555 W Foothill Blvd\, Claremont\, CA 91711
UID:e.1883.47
SEQUENCE:3
DTSTAMP:20260426T000802Z
URL:https://business.lavernechamber.org/events/details/annual-wine-extravaganza-and-auction-04-13-2014-47
END:VEVENT

END:VCALENDAR
