BEGIN:VCALENDAR
VERSION:2.0
PRODID:-//ChamberMaster//Event Calendar 2.0//EN
METHOD:PUBLISH
X-PUBLISHED-TTL:P3D
REFRESH-INTERVAL:P3D
CALSCALE:GREGORIAN
BEGIN:VEVENT
DTSTART:20190822T233000Z
DTEND:20190823T013000Z
X-MICROSOFT-CDO-ALLDAYEVENT:FALSE
SUMMARY:Art Exhibit and Sale at Dave & Maggie's Cafe
DESCRIPTION:Original artwork by youth at David & Margaret Youth and Family Services will decorate the walls of Dave & Maggie's Cafe starting Aug. 22! Join us for an 'opening' - meet the artists and enjoy refreshments. Some art will be for sale\,with  proceeds benefiting the artists.
X-ALT-DESC;FMTTYPE=text/html:Original artwork by youth at David &amp\; Margaret Youth and Family Services will decorate the walls of Dave &amp\; Maggie&#39\;s Cafe starting Aug. 22! Join us for an &#39\;opening&#39\; - meet the artists and enjoy refreshments. Some art will be for sale\,with&nbsp\; proceeds benefiting the artists.
LOCATION:Dave & Maggie's Cafe
UID:e.1883.1723
SEQUENCE:3
DTSTAMP:20260421T175450Z
URL:https://business.lavernechamber.org/events/details/art-exhibit-and-sale-at-dave-maggie-s-cafe-1723
END:VEVENT

END:VCALENDAR
