BEGIN:VCALENDAR
VERSION:2.0
PRODID:-//ChamberMaster//Event Calendar 2.0//EN
METHOD:PUBLISH
X-PUBLISHED-TTL:P3D
REFRESH-INTERVAL:P3D
CALSCALE:GREGORIAN
BEGIN:VEVENT
DTSTART:20180920T190000Z
DTEND:20180920T190000Z
X-MICROSOFT-CDO-ALLDAYEVENT:FALSE
SUMMARY:Assemblymember Chris Holden Open House
DESCRIPTION:Featuring Special Guest Congresswoman Judy Chu\n\nCelebrate the 100% occupancy of the Old School House!\n\n-Brief legislative and community update\n\n-Network with elected officials\, businesses\, and community members\n\n-Light refreshments will be served
X-ALT-DESC;FMTTYPE=text/html:<div><span style="font-size: 13px\;">Featuring Special Guest Congresswoman Judy Chu<br />\nCelebrate the 100% occupancy of the Old School House!</span></div>\n\n<div><span style="font-size: 13px\;">-Brief legislative and community update</span></div>\n\n<div><span style="font-size: 13px\;">-Network with elected officials\, businesses\, and community members</span></div>\n\n<div><span style="font-size: 13px\;">-Light refreshments will be served</span></div>\n
LOCATION:In the Old School House 415 W. Foothill Blvd Claremont
UID:e.1883.1155
SEQUENCE:3
DTSTAMP:20260422T103704Z
URL:https://business.lavernechamber.org/events/details/assemblymember-chris-holden-open-house-1155
END:VEVENT

END:VCALENDAR
