BEGIN:VCALENDAR
VERSION:2.0
PRODID:-//ChamberMaster//Event Calendar 2.0//EN
METHOD:PUBLISH
X-PUBLISHED-TTL:P3D
REFRESH-INTERVAL:P3D
CALSCALE:GREGORIAN
BEGIN:VEVENT
DTSTART:20171118T170000Z
DTEND:20171118T200000Z
X-MICROSOFT-CDO-ALLDAYEVENT:FALSE
SUMMARY:BBQ Cooking Class
DESCRIPTION:Join Outdoor Elegance and Mad Dawgz BBQ for our Fall BBQ cooking class!\n\n.\n\nWhen: Saturday\, November 18 at 9 AM - 12 PM\n\nWhere: 3795 Damien Ave. La Verne\, CA 91750 (our showroom)\n\n.\n\nSpace is limited! There are only 25 seats available so call (909) 592-5711 to reserve your spot now...\n\n.\n\nWe've got our good friend and BBQ pit master\, Larry "Mad Dawgz" Adkins\, who will be teaching you how to grill:\n\n.\n\nThanksgiving & Christmas Prep:\n\nSmoked spatchcock Turkey\n\nSmoked Ham\n\nSmoked Fatties\n\n.\n\nThese mouth-watering dishes will be prepared on our very best BBQ grills.\n\n.\n\n$50 per person.\n\n.\n\nGive us a call at (909) 592-5711 or stop by the showroom to claim your seat... Otherwise\, make sure to checkout the Facebook event so you can learn more and RSVP.
X-ALT-DESC;FMTTYPE=text/html:<span style="color:#7D7D7D\;"><span style="font-family:verdana\,sans-serif\;"><span style="font-size:10.5pt\;">&nbsp\;Join Outdoor Elegance and Mad Dawgz BBQ&nbsp\;for our Fall&nbsp\;BBQ cooking class!</span></span></span><br />\n<span style="color:white\;"><span style="font-family:verdana\,sans-serif\;"><span style="font-size:10.5pt\;">.</span></span></span><br />\n<strong><span style="color:#7D7D7D\;"><span style="font-family:verdana\,sans-serif\;"><span style="font-size:10.5pt\;">When:&nbsp\;</span></span></span></strong><span style="color:#7D7D7D\;"><span style="font-family:verdana\,sans-serif\;"><span style="font-size:10.5pt\;">Saturday\, November 18 at&nbsp\;9 AM&nbsp\;-&nbsp\;12 PM</span></span></span><br />\n<strong><span style="color:#7D7D7D\;"><span style="font-family:verdana\,sans-serif\;"><span style="font-size:10.5pt\;">Where:</span></span></span></strong>&nbsp\;<span style="color:#7D7D7D\;"><span style="font-family:verdana\,sans-serif\;"><span style="font-size:10.5pt\;">3795 Damien Ave. La Verne\, CA 91750 (our showroom)</span></span></span><br />\n<span style="color:white\;"><span style="font-family:verdana\,sans-serif\;"><span style="font-size:10.5pt\;">.</span></span></span><br />\n<span style="color:#7D7D7D\;"><span style="font-family:verdana\,sans-serif\;"><span style="font-size:10.5pt\;">Space is limited! There are&nbsp\;<u>only 25 seats available</u>&nbsp\;so&nbsp\;<strong>call (909) 592-5711 to reserve your spot&nbsp\;now</strong>...</span></span></span><br />\n<span style="color:white\;"><span style="font-family:verdana\,sans-serif\;"><span style="font-size:10.5pt\;">.</span></span></span><br />\n<span style="color:#7D7D7D\;"><span style="font-family:verdana\,sans-serif\;"><span style="font-size:10.5pt\;">We&#39\;ve got our good friend and BBQ pit master\, Larry &quot\;Mad Dawgz&quot\; Adkins\, who will be teaching you how to grill:</span></span></span><br />\n<span style="color:white\;"><span style="font-family:verdana\,sans-serif\;"><span style="font-size:10.5pt\;">.</span></span></span><br />\n<span style="color:#7D7D7D\;"><span style="font-family:verdana\,sans-serif\;"><span style="font-size:10.5pt\;">Thanksgiving &amp\; Christmas Prep:<br />\nSmoked spatchcock Turkey<br />\nSmoked Ham<br />\nSmoked Fatties</span></span></span><br />\n<span style="color:white\;"><span style="font-family:verdana\,sans-serif\;"><span style="font-size:10.5pt\;">.</span></span></span><br />\n<span style="color:#7D7D7D\;"><span style="font-family:verdana\,sans-serif\;"><span style="font-size:10.5pt\;">These mouth-watering dishes will be prepared on our very best BBQ grills.</span></span></span><br />\n<span style="color:white\;"><span style="font-family:verdana\,sans-serif\;"><span style="font-size:10.5pt\;">.</span></span></span><br />\n<span style="color:#7D7D7D\;"><span style="font-family:verdana\,sans-serif\;"><span style="font-size:10.5pt\;"><strong><u>$50 per person.</u></strong></span></span></span><br />\n<span style="color:white\;"><span style="font-family:verdana\,sans-serif\;"><span style="font-size:10.5pt\;">.</span></span></span><br />\n<span style="color:#7D7D7D\;"><span style="font-family:verdana\,sans-serif\;"><span style="font-size:10.5pt\;">Give us a call at (909) 592-5711 or stop by the showroom to claim your seat...&nbsp\;Otherwise\, make sure to checkout the&nbsp\;<a href="https://www.facebook.com/events/1821996208067936/?acontext=%7B%22ref%22%3A%2244%22%2C%22unit_ref%22%3A%22related_events%22%2C%22action_history%22%3A%22[%7B%5C%22surface%5C%22%3A%5C%22permalink%5C%22%2C%5C%22mechanism%5C%22%3A%5C%22RHC%5C%22%2C%5C%22extra_data%5C%22%3A[]%7D]%22%7D" target="_blank">Facebook event</a>&nbsp\;so you can learn more and RSVP.</span></span></span>
LOCATION:Outdoor Elegance 3795 Damien Ave. La Verne\, CA 91750 (our showroom)
UID:e.1883.173
SEQUENCE:3
DTSTAMP:20260423T014532Z
URL:https://business.lavernechamber.org/events/details/bbq-cooking-class-173
END:VEVENT

END:VCALENDAR
