BEGIN:VCALENDAR
VERSION:2.0
PRODID:-//ChamberMaster//Event Calendar 2.0//EN
METHOD:PUBLISH
X-PUBLISHED-TTL:P3D
REFRESH-INTERVAL:P3D
CALSCALE:GREGORIAN
BEGIN:VEVENT
DTSTART:20190511T180000Z
DTEND:20190511T190000Z
X-MICROSOFT-CDO-ALLDAYEVENT:FALSE
SUMMARY:Bend\, Breathe\, and Brews
DESCRIPTION:Join us for Bend\, Breathe\, and Brews. It is back. This time on a Saturday. The event starts at 11am. Come a bit early and grab a beer. Beers are $5 during yoga.
X-ALT-DESC;FMTTYPE=text/html:Join us for Bend\, Breathe\, and Brews. It is back. This time on a Saturday. The event starts at 11am. Come a bit early and grab a beer. Beers are $5 during yoga.&nbsp\;
LOCATION:La Verne Brewing Co
UID:e.1883.1373
SEQUENCE:3
DTSTAMP:20260421T221620Z
URL:https://business.lavernechamber.org/events/details/bend-breathe-and-brews-1373
END:VEVENT

END:VCALENDAR
