BEGIN:VCALENDAR
VERSION:2.0
PRODID:-//ChamberMaster//Event Calendar 2.0//EN
METHOD:PUBLISH
X-PUBLISHED-TTL:P3D
REFRESH-INTERVAL:P3D
CALSCALE:GREGORIAN
BEGIN:VEVENT
DTSTART:20190623T174500Z
DTEND:20190623T190000Z
X-MICROSOFT-CDO-ALLDAYEVENT:FALSE
SUMMARY:Bend\, Breathe\, Brews
DESCRIPTION:Start your Sunday morning off right with a beer and a good stretch. Beer time is 10:45am and yoga time is 11am. See you then.
X-ALT-DESC;FMTTYPE=text/html:<span style="background-color:rgb(255\, 255\, 255)\; color:rgb(28\, 30\, 33)\; font-family:system-ui\,-apple-system\,system-ui\,.sfnstext-regular\,sans-serif\; font-size:12px">Start your Sunday morning off right with a beer and a good stretch. Beer time is 10:45am and yoga time is 11am. See you then. </span>
LOCATION:La Verne Brewing Co.
UID:e.1883.1446
SEQUENCE:3
DTSTAMP:20260421T204442Z
URL:https://business.lavernechamber.org/events/details/bend-breathe-brews-06-23-2019-1446
END:VEVENT

END:VCALENDAR
