BEGIN:VCALENDAR
VERSION:2.0
PRODID:-//ChamberMaster//Event Calendar 2.0//EN
METHOD:PUBLISH
X-PUBLISHED-TTL:P3D
REFRESH-INTERVAL:P3D
CALSCALE:GREGORIAN
BEGIN:VEVENT
DTSTART:20190602T190000Z
DTEND:20190603T030000Z
X-MICROSOFT-CDO-ALLDAYEVENT:FALSE
SUMMARY:Board Games and Beer
DESCRIPTION:Stop by and get your beer and game on. Bring some friends or make new ones over your love for board games and beer. Feel free to bring some of your own to teach and play.
X-ALT-DESC;FMTTYPE=text/html:Stop by and get your beer and game on. Bring some friends or make new ones over your love for board games and beer. Feel free to bring some of your own to teach and play.&nbsp\;
LOCATION:La Verne Brewing Co
UID:e.1883.1440
SEQUENCE:3
DTSTAMP:20260421T221651Z
URL:https://business.lavernechamber.org/events/details/board-games-and-beer-1440
END:VEVENT

END:VCALENDAR
