BEGIN:VCALENDAR
VERSION:2.0
PRODID:-//ChamberMaster//Event Calendar 2.0//EN
METHOD:PUBLISH
X-PUBLISHED-TTL:P3D
REFRESH-INTERVAL:P3D
CALSCALE:GREGORIAN
BEGIN:VEVENT
DTSTART:20140220T193000Z
DTEND:20140220T210000Z
X-MICROSOFT-CDO-ALLDAYEVENT:FALSE
SUMMARY:Bonita Unified School District - State of the School District
DESCRIPTION:Dr. Gary Rapkin will give the State of the School District Update
X-ALT-DESC;FMTTYPE=text/html:Dr. Gary Rapkin will give the State of the School District Update
LOCATION:Hillcrest\, 2705 Mountain View\, La Verne
UID:e.1883.12
SEQUENCE:3
DTSTAMP:20260426T013832Z
URL:https://business.lavernechamber.org/events/details/bonita-unified-school-district-state-of-the-school-district-02-20-2014-12
END:VEVENT

END:VCALENDAR
