BEGIN:VCALENDAR
VERSION:2.0
PRODID:-//ChamberMaster//Event Calendar 2.0//EN
METHOD:PUBLISH
X-PUBLISHED-TTL:P3D
REFRESH-INTERVAL:P3D
CALSCALE:GREGORIAN
BEGIN:VEVENT
DTSTART:20190226T190000Z
DTEND:20190226T210000Z
X-MICROSOFT-CDO-ALLDAYEVENT:FALSE
SUMMARY:Bonita USD State of the District Address & Luncheon
DESCRIPTION:Join us As Superintendent Carl Coles shares the District's progress with a focus on One Purpose 10\,000 Reasons
X-ALT-DESC;FMTTYPE=text/html:<div><span style="font-size: 13px\;">Join us As Superintendent Carl Coles shares the District&rsquo\;s progress with a focus on One Purpose 10\,000 Reasons</span></div>\n
LOCATION:The Meeting House at Hillcrest 2705 Mountain View Drive
UID:e.1883.1290
SEQUENCE:3
DTSTAMP:20260422T030628Z
URL:https://business.lavernechamber.org/events/details/bonita-usd-state-of-the-district-address-luncheon-1290
END:VEVENT

END:VCALENDAR
