BEGIN:VCALENDAR
VERSION:2.0
PRODID:-//ChamberMaster//Event Calendar 2.0//EN
METHOD:PUBLISH
X-PUBLISHED-TTL:P3D
REFRESH-INTERVAL:P3D
CALSCALE:GREGORIAN
BEGIN:VEVENT
DTSTART:20181002T173000Z
DTEND:20181002T190000Z
X-MICROSOFT-CDO-ALLDAYEVENT:FALSE
SUMMARY:BUSD School Board Candidates Forum
DESCRIPTION:SPECIAL EVENT INVITATION \n\nHILLCREST\n\nIS PROUD TO HOST AND INVITE YOU TO A\n\nSchool Board Candidates Forum\n\nFor the Bonita unified School District\n\n\nCandidates will make opening and closing statements and answer questions through moderator\, Tom Hostetler\, the Hillcrest Chaplain.\n\nCANDIDATES:\n\nDerek Bahmanou\n\nKrista Chakmak\n\nCharles 'Chuck' Coyne
X-ALT-DESC;FMTTYPE=text/html:<div style="text-align: center\;"><span style="font-size: 13px\;">SPECIAL EVENT INVITATION&nbsp\;</span><br />\nHILLCREST<br />\n<span style="font-size: 13px\;">IS PROUD TO HOST AND INVITE YOU TO A<br />\nSchool Board Candidates Forum<br />\nFor the Bonita unified School District</span></div>\n<br />\n<span style="font-size: 13px\;">Candidates will make opening and closing statements and answer questions through moderator\, Tom Hostetler\, the Hillcrest Chaplain.</span>\n\n<div style="margin-left: 200px\;"><span style="font-size: 13px\;">CANDIDATES:</span></div>\n\n<div style="margin-left: 200px\;"><span style="font-size: 13px\;">Derek Bahmanou</span></div>\n\n<div style="margin-left: 200px\;"><span style="font-size: 13px\;">Krista Chakmak</span></div>\n\n<div style="margin-left: 200px\;"><span style="font-size: 13px\;">Charles &lsquo\;Chuck&rsquo\; Coyne</span></div>\n
LOCATION:Hillcrest 2705 Mountain View Dr.
UID:e.1883.1219
SEQUENCE:3
DTSTAMP:20260422T092832Z
URL:https://business.lavernechamber.org/events/details/busd-school-board-candidates-forum-1219
END:VEVENT

END:VCALENDAR
