BEGIN:VCALENDAR
VERSION:2.0
PRODID:-//ChamberMaster//Event Calendar 2.0//EN
METHOD:PUBLISH
X-PUBLISHED-TTL:P3D
REFRESH-INTERVAL:P3D
CALSCALE:GREGORIAN
BEGIN:VEVENT
DTSTART:20190306T193000Z
DTEND:20190306T210000Z
X-MICROSOFT-CDO-ALLDAYEVENT:FALSE
SUMMARY:Business Connections
DESCRIPTION:Business Connections  is an opportunity for Chamber members get to know each other and their businesses in a format that provides time to build the trust and confidence that leads to lasting relationships and strategic partnerships.\n\n \n\n\n\nFeatured Speaker:\n\nFernando G. Nieto\n\nActing Supervisor   Office of Small Business\n\nCounty of Los Angeles Department of Consumer and Business Affairs\n\n\n\nThe County of Los Angeles purchases over $4 billion in products and services from businesses annually. The County's Board of Supervisors has committed to awarding 25% and 3% of those purchases and contracts to local small and disabled veteran owned businesses by the year 2020. Come learn more about how to do business with the County\, the free services available to your business\, and how to gain a competitive edge by becoming certified as a Local Small Business Enterprise\, Disabled Veteran Business Enterprise\, or Social Enterprise. \n\n\n\nCity Update with Eric Scherer\, Community Development Director\n\nUpdate on BUSD with Kenny RItchie and/or Carl Coles
X-ALT-DESC;FMTTYPE=text/html:<div style="color: rgb(64\, 63\, 66)\; font-family: Arial\, Verdana\, Helvetica\, sans-serif\; font-size: 12px\; text-align: center\;">\n<div>&nbsp\;Business Connections&nbsp\; is an opportunity for Chamber members get to know each other and their businesses in a format that provides time to build the trust and confidence that leads to lasting relationships and strategic partnerships.<br />\n&nbsp\;</div>\n</div>\n\n<div style="text-align: center\;">\n<div style="">Featured Speaker:<br />\n<strong><span style="font-family:arial\,sans-serif\;">Fernando G. Nieto</span></strong><br />\n<em><span style="font-family:arial\,sans-serif\;">Acting Supervisor &ndash\; Office of Small Business</span></em><br />\n<strong><span style="font-family:arial\,sans-serif\;"><span style="font-size:10.0pt\;">County of Los Angeles Department of Consumer and Business Affairs</span></span></strong><br />\n<br />\n<em>The County of Los Angeles purchases over $4 billion in products and services from businesses annually. The County&rsquo\;s Board of Supervisors has committed to awarding 25% and 3% of those purchases and contracts to local small and disabled veteran owned businesses by the year 2020. Come learn more about how to do business with the County\, the free services available to your business\, and how to gain a competitive edge by becoming certified as a Local Small Business Enterprise\, Disabled Veteran Business Enterprise\, or Social Enterprise.&nbsp\;</em><br />\n<br />\nCity Update with Eric Scherer\, Community Development Director<br />\nUpdate on BUSD with Kenny RItchie and/or Carl Coles</div>\n</div>\n
LOCATION:Marshall Canyon Golf Course 6100 Stephens Ranch Rd
UID:e.1883.1284
SEQUENCE:3
DTSTAMP:20260422T011726Z
URL:https://business.lavernechamber.org/events/details/business-connections-1284
END:VEVENT

END:VCALENDAR
