BEGIN:VCALENDAR
VERSION:2.0
PRODID:-//ChamberMaster//Event Calendar 2.0//EN
METHOD:PUBLISH
X-PUBLISHED-TTL:P3D
REFRESH-INTERVAL:P3D
CALSCALE:GREGORIAN
BEGIN:VEVENT
DTSTART:20190403T183000Z
DTEND:20190403T200000Z
X-MICROSOFT-CDO-ALLDAYEVENT:FALSE
SUMMARY:Business Connections
DESCRIPTION:Business Connections  is an opportunity for Chamber members get to know each other and their businesses in a format that provides time to build the trust and confidence that leads to lasting relationships and strategic partnerships.\n\n \n\n\n\nFeatured Speaker:\n\nSean Snider\n\nULV SBDC\n\nObtaining Capital for Growth\n\nCity Update with Eric Scherer\, Community Development Director\n\nUpdate on BUSD with Kenny RItchie and/or Carl Coles
X-ALT-DESC;FMTTYPE=text/html:<div style="color: rgb(64\, 63\, 66)\; font-family: Arial\, Verdana\, Helvetica\, sans-serif\; font-size: 12px\; text-align: center\;">\n<div>&nbsp\;Business Connections&nbsp\; is an opportunity for Chamber members get to know each other and their businesses in a format that provides time to build the trust and confidence that leads to lasting relationships and strategic partnerships.<br />\n&nbsp\;</div>\n</div>\n\n<div style="text-align: center\;">\n<div style="">Featured Speaker:<br />\n<font face="arial\, sans-serif"><b>Sean Snider<br />\nULV SBDC<br />\nObtaining Capital for Growth</b></font><br />\nCity Update with Eric Scherer\, Community Development Director<br />\nUpdate on BUSD with Kenny RItchie and/or Carl Coles</div>\n</div>\n
LOCATION:Marshall Canyon Golf Course
UID:e.1883.1285
SEQUENCE:3
DTSTAMP:20260422T011207Z
URL:https://business.lavernechamber.org/events/details/business-connections-1285
END:VEVENT

END:VCALENDAR
