BEGIN:VCALENDAR
VERSION:2.0
PRODID:-//ChamberMaster//Event Calendar 2.0//EN
METHOD:PUBLISH
X-PUBLISHED-TTL:P3D
REFRESH-INTERVAL:P3D
CALSCALE:GREGORIAN
BEGIN:VEVENT
DTSTART:20190703T183000Z
DTEND:20190703T200000Z
X-MICROSOFT-CDO-ALLDAYEVENT:FALSE
SUMMARY:Business Connections
DESCRIPTION:Business Connections  is an opportunity for Chamber members get to know each other and their businesses in a format that provides time to build the trust and confidence that leads to lasting relationships and strategic partnerships.\n\n \n\n\n\nFeatured Speaker:\n\nNetworking Activity \n\nBring plenty of business cards!\n\nCity Update with Eric Scherer\, Community Development Director\n\nUpdate on BUSD with Kenny Ritchie and/or Carl Coles
X-ALT-DESC;FMTTYPE=text/html:<div style="color: rgb(64\, 63\, 66)\; font-family: Arial\, Verdana\, Helvetica\, sans-serif\; font-size: 12px\; text-align: center\;">\n<div>&nbsp\;Business Connections&nbsp\; is an opportunity for Chamber members get to know each other and their businesses in a format that provides time to build the trust and confidence that leads to lasting relationships and strategic partnerships.<br />\n&nbsp\;</div>\n</div>\n\n<div style="text-align: center\;">\n<div style="">Featured Speaker:<br />\n<font face="arial\, sans-serif"><b>Networking Activity&nbsp\;<br />\nBring plenty of business cards!</b></font><br />\nCity Update with Eric Scherer\, Community Development Director<br />\nUpdate on BUSD with Kenny Ritchie and/or Carl Coles</div>\n</div>\n
LOCATION:Marshall Canyon Golf Course
UID:e.1883.1452
SEQUENCE:3
DTSTAMP:20260421T204239Z
URL:https://business.lavernechamber.org/events/details/business-connections-1452
END:VEVENT

END:VCALENDAR
